Workbook

Sheet Ertragsvorschau
A1: Ertragsvorschau 2026
A2: Unternehmen | B2: Musterberatung Müller GmbH | D2: Geschäftsjahr | E2: 2026
A3: Szenario | B3: Basis | D3: Kostenfaktor | E3: =IFERROR(VLOOKUP($B$3,'Anleitung'!$H$3:$I$5,2,FALSE),1)
A4: Standort | B4: München | D4: Umsatzsteuerliche Einordnung | E4: Regelbesteuerung
A5: USt-Satz | B5: 0.19 | D5: Eingabezellen | E5: hellgelb markiert
A6: Planungsbeginn | B6: 46023 | D6: Planungsende | E6: 46295
A8: Monat | B8: Verantwortliche Person | C8: Stadt | D8: Geplante Projekte | E8: Geplanter Umsatz netto | F8: Sonstige Erträge netto | G8: Gesamtleistung netto | H8: Variable Kosten | I8: Fixkosten | J8: Personalkosten | K8: Gesamtaufwand | L8: Betriebsergebnis | M8: Umsatzrentabilität | N8: USt auf Erlöse | O8: Vorsteuer | P8: Voraussichtliche USt-Zahllast | Q8: Status | R8: Szenarioaufwand | S8: Szenarioergebnis
A9: 46023 | B9: Anna Müller | C9: München | D9: 8 | E9: 28000 | F9: 400 | G9: =IF(COUNTA($A9:$F9)=0,"",SUM($E9:$F9)) | H9: 6500 | I9: 6500 | J9: 13000 | K9: =IF(COUNTA($A9:$J9)=0,"",SUM($H9:$J9)) | L9: =IF(OR($G9="",$K9=""),"",$G9-$K9) | M9: =IFERROR(IF($G9="","",$L9/$G9),"") | N9: =IF($G9="","",$G9*'Ertragsvorschau'!$B$5) | O9: 3800 | P9: =IF(OR($N9="",$O9=""),"",$N9-$O9) | Q9: =IF($L9="","",IF($L9>=0,"Gewinn","Verlust")) | R9: =IF($K9="","",$K9*'Ertragsvorschau'!$E$3) | S9: =IF(OR($G9="",$R9=""),"",$G9-$R9)
A10: 46054 | B10: Lukas Schneider | C10: Berlin | D10: 9 | E10: 30000 | F10: 600 | G10: =IF(COUNTA($A10:$F10)=0,"",SUM($E10:$F10)) | H10: 7000 | I10: 6600 | J10: 11200 | K10: =IF(COUNTA($A10:$J10)=0,"",SUM($H10:$J10)) | L10: =IF(OR($G10="",$K10=""),"",$G10-$K10) | M10: =IFERROR(IF($G10="","",$L10/$G10),"") | N10: =IF($G10="","",$G10*'Ertragsvorschau'!$B$5) | O10: 4300 | P10: =IF(OR($N10="",$O10=""),"",$N10-$O10) | Q10: =IF($L10="","",IF($L10>=0,"Gewinn","Verlust")) | R10: =IF($K10="","",$K10*'Ertragsvorschau'!$E$3) | S10: =IF(OR($G10="",$R10=""),"",$G10-$R10)
A11: 46082 | B11: Julia Weber | C11: Hamburg | D11: 10 | E11: 32000 | F11: 1200 | G11: =IF(COUNTA($A11:$F11)=0,"",SUM($E11:$F11)) | H11: 7400 | I11: 6700 | J11: 11500 | K11: =IF(COUNTA($A11:$J11)=0,"",SUM($H11:$J11)) | L11: =IF(OR($G11="",$K11=""),"",$G11-$K11) | M11: =IFERROR(IF($G11="","",$L11/$G11),"") | N11: =IF($G11="","",$G11*'Ertragsvorschau'!$B$5) | O11: 4800 | P11: =IF(OR($N11="",$O11=""),"",$N11-$O11) | Q11: =IF($L11="","",IF($L11>=0,"Gewinn","Verlust")) | R11: =IF($K11="","",$K11*'Ertragsvorschau'!$E$3) | S11: =IF(OR($G11="",$R11=""),"",$G11-$R11)
A12: 46113 | B12: Maximilian Fischer | C12: Köln | D12: 10 | E12: 34000 | F12: 500 | G12: =IF(COUNTA($A12:$F12)=0,"",SUM($E12:$F12)) | H12: 7800 | I12: 6800 | J12: 11700 | K12: =IF(COUNTA($A12:$J12)=0,"",SUM($H12:$J12)) | L12: =IF(OR($G12="",$K12=""),"",$G12-$K12) | M12: =IFERROR(IF($G12="","",$L12/$G12),"") | N12: =IF($G12="","",$G12*'Ertragsvorschau'!$B$5) | O12: 5000 | P12: =IF(OR($N12="",$O12=""),"",$N12-$O12) | Q12: =IF($L12="","",IF($L12>=0,"Gewinn","Verlust")) | R12: =IF($K12="","",$K12*'Ertragsvorschau'!$E$3) | S12: =IF(OR($G12="",$R12=""),"",$G12-$R12)
A13: 46143 | B13: Sophie Wagner | C13: Frankfurt | D13: 11 | E13: 36000 | F13: 900 | G13: =IF(COUNTA($A13:$F13)=0,"",SUM($E13:$F13)) | H13: 8500 | I13: 6900 | J13: 12000 | K13: =IF(COUNTA($A13:$J13)=0,"",SUM($H13:$J13)) | L13: =IF(OR($G13="",$K13=""),"",$G13-$K13) | M13: =IFERROR(IF($G13="","",$L13/$G13),"") | N13: =IF($G13="","",$G13*'Ertragsvorschau'!$B$5) | O13: 5400 | P13: =IF(OR($N13="",$O13=""),"",$N13-$O13) | Q13: =IF($L13="","",IF($L13>=0,"Gewinn","Verlust")) | R13: =IF($K13="","",$K13*'Ertragsvorschau'!$E$3) | S13: =IF(OR($G13="",$R13=""),"",$G13-$R13)
A14: 46174 | B14: Felix Becker | C14: Stuttgart | D14: 12 | E14: 37500 | F14: 1000 | G14: =IF(COUNTA($A14:$F14)=0,"",SUM($E14:$F14)) | H14: 9000 | I14: 7000 | J14: 12200 | K14: =IF(COUNTA($A14:$J14)=0,"",SUM($H14:$J14)) | L14: =IF(OR($G14="",$K14=""),"",$G14-$K14) | M14: =IFERROR(IF($G14="","",$L14/$G14),"") | N14: =IF($G14="","",$G14*'Ertragsvorschau'!$B$5) | O14: 5700 | P14: =IF(OR($N14="",$O14=""),"",$N14-$O14) | Q14: =IF($L14="","",IF($L14>=0,"Gewinn","Verlust")) | R14: =IF($K14="","",$K14*'Ertragsvorschau'!$E$3) | S14: =IF(OR($G14="",$R14=""),"",$G14-$R14)
A15: 46204 | B15: Laura Hoffmann | C15: Düsseldorf | D15: 12 | E15: 39000 | F15: 600 | G15: =IF(COUNTA($A15:$F15)=0,"",SUM($E15:$F15)) | H15: 9200 | I15: 7100 | J15: 12500 | K15: =IF(COUNTA($A15:$J15)=0,"",SUM($H15:$J15)) | L15: =IF(OR($G15="",$K15=""),"",$G15-$K15) | M15: =IFERROR(IF($G15="","",$L15/$G15),"") | N15: =IF($G15="","",$G15*'Ertragsvorschau'!$B$5) | O15: 5900 | P15: =IF(OR($N15="",$O15=""),"",$N15-$O15) | Q15: =IF($L15="","",IF($L15>=0,"Gewinn","Verlust")) | R15: =IF($K15="","",$K15*'Ertragsvorschau'!$E$3) | S15: =IF(OR($G15="",$R15=""),"",$G15-$R15)
A16: 46235 | B16: Jonas Richter | C16: Leipzig | D16: 13 | E16: 41000 | F16: 1200 | G16: =IF(COUNTA($A16:$F16)=0,"",SUM($E16:$F16)) | H16: 10200 | I16: 7200 | J16: 12800 | K16: =IF(COUNTA($A16:$J16)=0,"",SUM($H16:$J16)) | L16: =IF(OR($G16="",$K16=""),"",$G16-$K16) | M16: =IFERROR(IF($G16="","",$L16/$G16),"") | N16: =IF($G16="","",$G16*'Ertragsvorschau'!$B$5) | O16: 6400 | P16: =IF(OR($N16="",$O16=""),"",$N16-$O16) | Q16: =IF($L16="","",IF($L16>=0,"Gewinn","Verlust")) | R16: =IF($K16="","",$K16*'Ertragsvorschau'!$E$3) | S16: =IF(OR($G16="",$R16=""),"",$G16-$R16)
A17: 46266 | B17: Marie Klein | C17: Dortmund | D17: 14 | E17: 42000 | F17: 700 | G17: =IF(COUNTA($A17:$F17)=0,"",SUM($E17:$F17)) | H17: 10600 | I17: 7200 | J17: 13000 | K17: =IF(COUNTA($A17:$J17)=0,"",SUM($H17:$J17)) | L17: =IF(OR($G17="",$K17=""),"",$G17-$K17) | M17: =IFERROR(IF($G17="","",$L17/$G17),"") | N17: =IF($G17="","",$G17*'Ertragsvorschau'!$B$5) | O17: 6700 | P17: =IF(OR($N17="",$O17=""),"",$N17-$O17) | Q17: =IF($L17="","",IF($L17>=0,"Gewinn","Verlust")) | R17: =IF($K17="","",$K17*'Ertragsvorschau'!$E$3) | S17: =IF(OR($G17="",$R17=""),"",$G17-$R17)
G18: =IF(COUNTA($A18:$F18)=0,"",SUM($E18:$F18)) | K18: =IF(COUNTA($A18:$J18)=0,"",SUM($H18:$J18)) | L18: =IF(OR($G18="",$K18=""),"",$G18-$K18) | M18: =IFERROR(IF($G18="","",$L18/$G18),"") | N18: =IF($G18="","",$G18*'Ertragsvorschau'!$B$5) | P18: =IF(OR($N18="",$O18=""),"",$N18-$O18) | Q18: =IF($L18="","",IF($L18>=0,"Gewinn","Verlust")) | R18: =IF($K18="","",$K18*'Ertragsvorschau'!$E$3) | S18: =IF(OR($G18="",$R18=""),"",$G18-$R18)
G19: =IF(COUNTA($A19:$F19)=0,"",SUM($E19:$F19)) | K19: =IF(COUNTA($A19:$J19)=0,"",SUM($H19:$J19)) | L19: =IF(OR($G19="",$K19=""),"",$G19-$K19) | M19: =IFERROR(IF($G19="","",$L19/$G19),"") | N19: =IF($G19="","",$G19*'Ertragsvorschau'!$B$5) | P19: =IF(OR($N19="",$O19=""),"",$N19-$O19) | Q19: =IF($L19="","",IF($L19>=0,"Gewinn","Verlust")) | R19: =IF($K19="","",$K19*'Ertragsvorschau'!$E$3) | S19: =IF(OR($G19="",$R19=""),"",$G19-$R19)
G20: =IF(COUNTA($A20:$F20)=0,"",SUM($E20:$F20)) | K20: =IF(COUNTA($A20:$J20)=0,"",SUM($H20:$J20)) | L20: =IF(OR($G20="",$K20=""),"",$G20-$K20) | M20: =IFERROR(IF($G20="","",$L20/$G20),"") | N20: =IF($G20="","",$G20*'Ertragsvorschau'!$B$5) | P20: =IF(OR($N20="",$O20=""),"",$N20-$O20) | Q20: =IF($L20="","",IF($L20>=0,"Gewinn","Verlust")) | R20: =IF($K20="","",$K20*'Ertragsvorschau'!$E$3) | S20: =IF(OR($G20="",$R20=""),"",$G20-$R20)
G21: =IF(COUNTA($A21:$F21)=0,"",SUM($E21:$F21)) | K21: =IF(COUNTA($A21:$J21)=0,"",SUM($H21:$J21)) | L21: =IF(OR($G21="",$K21=""),"",$G21-$K21) | M21: =IFERROR(IF($G21="","",$L21/$G21),"") | N21: =IF($G21="","",$G21*'Ertragsvorschau'!$B$5) | P21: =IF(OR($N21="",$O21=""),"",$N21-$O21) | Q21: =IF($L21="","",IF($L21>=0,"Gewinn","Verlust")) | R21: =IF($K21="","",$K21*'Ertragsvorschau'!$E$3) | S21: =IF(OR($G21="",$R21=""),"",$G21-$R21)
G22: =IF(COUNTA($A22:$F22)=0,"",SUM($E22:$F22)) | K22: =IF(COUNTA($A22:$J22)=0,"",SUM($H22:$J22)) | L22: =IF(OR($G22="",$K22=""),"",$G22-$K22) | M22: =IFERROR(IF($G22="","",$L22/$G22),"") | N22: =IF($G22="","",$G22*'Ertragsvorschau'!$B$5) | P22: =IF(OR($N22="",$O22=""),"",$N22-$O22) | Q22: =IF($L22="","",IF($L22>=0,"Gewinn","Verlust")) | R22: =IF($K22="","",$K22*'Ertragsvorschau'!$E$3) | S22: =IF(OR($G22="",$R22=""),"",$G22-$R22)
G23: =IF(COUNTA($A23:$F23)=0,"",SUM($E23:$F23)) | K23: =IF(COUNTA($A23:$J23)=0,"",SUM($H23:$J23)) | L23: =IF(OR($G23="",$K23=""),"",$G23-$K23) | M23: =IFERROR(IF($G23="","",$L23/$G23),"") | N23: =IF($G23="","",$G23*'Ertragsvorschau'!$B$5) | P23: =IF(OR($N23="",$O23=""),"",$N23-$O23) | Q23: =IF($L23="","",IF($L23>=0,"Gewinn","Verlust")) | R23: =IF($K23="","",$K23*'Ertragsvorschau'!$E$3) | S23: =IF(OR($G23="",$R23=""),"",$G23-$R23)
G24: =IF(COUNTA($A24:$F24)=0,"",SUM($E24:$F24)) | K24: =IF(COUNTA($A24:$J24)=0,"",SUM($H24:$J24)) | L24: =IF(OR($G24="",$K24=""),"",$G24-$K24) | M24: =IFERROR(IF($G24="","",$L24/$G24),"") | N24: =IF($G24="","",$G24*'Ertragsvorschau'!$B$5) | P24: =IF(OR($N24="",$O24=""),"",$N24-$O24) | Q24: =IF($L24="","",IF($L24>=0,"Gewinn","Verlust")) | R24: =IF($K24="","",$K24*'Ertragsvorschau'!$E$3) | S24: =IF(OR($G24="",$R24=""),"",$G24-$R24)
G25: =IF(COUNTA($A25:$F25)=0,"",SUM($E25:$F25)) | K25: =IF(COUNTA($A25:$J25)=0,"",SUM($H25:$J25)) | L25: =IF(OR($G25="",$K25=""),"",$G25-$K25) | M25: =IFERROR(IF($G25="","",$L25/$G25),"") | N25: =IF($G25="","",$G25*'Ertragsvorschau'!$B$5) | P25: =IF(OR($N25="",$O25=""),"",$N25-$O25) | Q25: =IF($L25="","",IF($L25>=0,"Gewinn","Verlust")) | R25: =IF($K25="","",$K25*'Ertragsvorschau'!$E$3) | S25: =IF(OR($G25="",$R25=""),"",$G25-$R25)
G26: =IF(COUNTA($A26:$F26)=0,"",SUM($E26:$F26)) | K26: =IF(COUNTA($A26:$J26)=0,"",SUM($H26:$J26)) | L26: =IF(OR($G26="",$K26=""),"",$G26-$K26) | M26: =IFERROR(IF($G26="","",$L26/$G26),"") | N26: =IF($G26="","",$G26*'Ertragsvorschau'!$B$5) | P26: =IF(OR($N26="",$O26=""),"",$N26-$O26) | Q26: =IF($L26="","",IF($L26>=0,"Gewinn","Verlust")) | R26: =IF($K26="","",$K26*'Ertragsvorschau'!$E$3) | S26: =IF(OR($G26="",$R26=""),"",$G26-$R26)
G27: =IF(COUNTA($A27:$F27)=0,"",SUM($E27:$F27)) | K27: =IF(COUNTA($A27:$J27)=0,"",SUM($H27:$J27)) | L27: =IF(OR($G27="",$K27=""),"",$G27-$K27) | M27: =IFERROR(IF($G27="","",$L27/$G27),"") | N27: =IF($G27="","",$G27*'Ertragsvorschau'!$B$5) | P27: =IF(OR($N27="",$O27=""),"",$N27-$O27) | Q27: =IF($L27="","",IF($L27>=0,"Gewinn","Verlust")) | R27: =IF($K27="","",$K27*'Ertragsvorschau'!$E$3) | S27: =IF(OR($G27="",$R27=""),"",$G27-$R27)
G28: =IF(COUNTA($A28:$F28)=0,"",SUM($E28:$F28)) | K28: =IF(COUNTA($A28:$J28)=0,"",SUM($H28:$J28)) | L28: =IF(OR($G28="",$K28=""),"",$G28-$K28) | M28: =IFERROR(IF($G28="","",$L28/$G28),"") | N28: =IF($G28="","",$G28*'Ertragsvorschau'!$B$5) | P28: =IF(OR($N28="",$O28=""),"",$N28-$O28) | Q28: =IF($L28="","",IF($L28>=0,"Gewinn","Verlust")) | R28: =IF($K28="","",$K28*'Ertragsvorschau'!$E$3) | S28: =IF(OR($G28="",$R28=""),"",$G28-$R28)
G29: =IF(COUNTA($A29:$F29)=0,"",SUM($E29:$F29)) | K29: =IF(COUNTA($A29:$J29)=0,"",SUM($H29:$J29)) | L29: =IF(OR($G29="",$K29=""),"",$G29-$K29) | M29: =IFERROR(IF($G29="","",$L29/$G29),"") | N29: =IF($G29="","",$G29*'Ertragsvorschau'!$B$5) | P29: =IF(OR($N29="",$O29=""),"",$N29-$O29) | Q29: =IF($L29="","",IF($L29>=0,"Gewinn","Verlust")) | R29: =IF($K29="","",$K29*'Ertragsvorschau'!$E$3) | S29: =IF(OR($G29="",$R29=""),"",$G29-$R29)
... G108: =IF(COUNTA($A108:$F108)=0,"",SUM($E108:$F108)) | K108: =IF(COUNTA($A108:$J108)=0,"",SUM($H108:$J108)) | L108: =IF(OR($G108="",$K108=""),"",$G108-$K108) | M108: =IFERROR(IF($G108="","",$L108/$G108),"") | N108: =IF($G108="","",$G108*'Ertragsvorschau'!$B$5) | P108: =IF(OR($N108="",$O108=""),"",$N108-$O108) | Q108: =IF($L108="","",IF($L108>=0,"Gewinn","Verlust")) | R108: =IF($K108="","",$K108*'Ertragsvorschau'!$E$3) | S108: =IF(OR($G108="",$R108=""),"",$G108-$R108)
A111: Jahresauswertung
A112: Kennzahl | B112: Wert
A113: Jahresumsatz netto | B113: =SUM($G$9:$G$108)
A114: Durchschnittlicher Monatsumsatz | B114: =IFERROR(AVERAGE($G$9:$G$108),0)
A115: Jahresaufwand | B115: =SUM($K$9:$K$108)
A116: Jahresergebnis | B116: =SUM($L$9:$L$108)
A117: Durchschnittliche Umsatzrentabilität | B117: =IFERROR(AVERAGE($M$9:$M$108),0)
A118: Anzahl Gewinnmonate | B118: =COUNTIF($Q$9:$Q$108,"Gewinn")
A119: Anzahl Verlustmonate | B119: =COUNTIF($Q$9:$Q$108,"Verlust")
A120: Höchster Monatsumsatz | B120: =IFERROR(MAX($G$9:$G$108),0)

Sheet Übersicht
A1: Management-Übersicht – Ertragsvorschau 2026
A3: Geplanter Gesamtumsatz netto | C3: Gesamtaufwand | E3: Jahresergebnis | G3: Umsatzrentabilität | I3: Gewinnmonate | K3: Voraussichtliche USt-Zahllast
A4: =SUM('Ertragsvorschau'!$G$9:$G$108) | C4: =SUM('Ertragsvorschau'!$K$9:$K$108) | E4: =SUM('Ertragsvorschau'!$L$9:$L$108) | G4: =IFERROR($E$4/$A$4,0) | I4: =COUNTIF('Ertragsvorschau'!$Q$9:$Q$108,"Gewinn") | K4: =SUM('Ertragsvorschau'!$P$9:$P$108)
A7: Monatliche Entwicklung | J7: Kostenstruktur
A8: Monat | B8: Gesamtleistung netto | C8: Gesamtaufwand | D8: Betriebsergebnis | E8: Umsatzrentabilität | J8: Kostenart | K8: Betrag
A9: =IF('Ertragsvorschau'!$A$9="","",'Ertragsvorschau'!$A$9) | B9: =IF('Ertragsvorschau'!$G$9="","",'Ertragsvorschau'!$G$9) | C9: =IF('Ertragsvorschau'!$K$9="","",'Ertragsvorschau'!$K$9) | D9: =IF('Ertragsvorschau'!$L$9="","",'Ertragsvorschau'!$L$9) | E9: =IF('Ertragsvorschau'!$M$9="","",'Ertragsvorschau'!$M$9) | J9: Variable Kosten | K9: =SUM('Ertragsvorschau'!$H$9:$H$108)
A10: =IF('Ertragsvorschau'!$A$10="","",'Ertragsvorschau'!$A$10) | B10: =IF('Ertragsvorschau'!$G$10="","",'Ertragsvorschau'!$G$10) | C10: =IF('Ertragsvorschau'!$K$10="","",'Ertragsvorschau'!$K$10) | D10: =IF('Ertragsvorschau'!$L$10="","",'Ertragsvorschau'!$L$10) | E10: =IF('Ertragsvorschau'!$M$10="","",'Ertragsvorschau'!$M$10) | J10: Fixkosten | K10: =SUM('Ertragsvorschau'!$I$9:$I$108)
A11: =IF('Ertragsvorschau'!$A$11="","",'Ertragsvorschau'!$A$11) | B11: =IF('Ertragsvorschau'!$G$11="","",'Ertragsvorschau'!$G$11) | C11: =IF('Ertragsvorschau'!$K$11="","",'Ertragsvorschau'!$K$11) | D11: =IF('Ertragsvorschau'!$L$11="","",'Ertragsvorschau'!$L$11) | E11: =IF('Ertragsvorschau'!$M$11="","",'Ertragsvorschau'!$M$11) | J11: Personalkosten | K11: =SUM('Ertragsvorschau'!$J$9:$J$108)
A12: =IF('Ertragsvorschau'!$A$12="","",'Ertragsvorschau'!$A$12) | B12: =IF('Ertragsvorschau'!$G$12="","",'Ertragsvorschau'!$G$12) | C12: =IF('Ertragsvorschau'!$K$12="","",'Ertragsvorschau'!$K$12) | D12: =IF('Ertragsvorschau'!$L$12="","",'Ertragsvorschau'!$L$12) | E12: =IF('Ertragsvorschau'!$M$12="","",'Ertragsvorschau'!$M$12)
A13: =IF('Ertragsvorschau'!$A$13="","",'Ertragsvorschau'!$A$13) | B13: =IF('Ertragsvorschau'!$G$13="","",'Ertragsvorschau'!$G$13) | C13: =IF('Ertragsvorschau'!$K$13="","",'Ertragsvorschau'!$K$13) | D13: =IF('Ertragsvorschau'!$L$13="","",'Ertragsvorschau'!$L$13) | E13: =IF('Ertragsvorschau'!$M$13="","",'Ertragsvorschau'!$M$13)
A14: =IF('Ertragsvorschau'!$A$14="","",'Ertragsvorschau'!$A$14) | B14: =IF('Ertragsvorschau'!$G$14="","",'Ertragsvorschau'!$G$14) | C14: =IF('Ertragsvorschau'!$K$14="","",'Ertragsvorschau'!$K$14) | D14: =IF('Ertragsvorschau'!$L$14="","",'Ertragsvorschau'!$L$14) | E14: =IF('Ertragsvorschau'!$M$14="","",'Ertragsvorschau'!$M$14)
A15: =IF('Ertragsvorschau'!$A$15="","",'Ertragsvorschau'!$A$15) | B15: =IF('Ertragsvorschau'!$G$15="","",'Ertragsvorschau'!$G$15) | C15: =IF('Ertragsvorschau'!$K$15="","",'Ertragsvorschau'!$K$15) | D15: =IF('Ertragsvorschau'!$L$15="","",'Ertragsvorschau'!$L$15) | E15: =IF('Ertragsvorschau'!$M$15="","",'Ertragsvorschau'!$M$15)
A16: =IF('Ertragsvorschau'!$A$16="","",'Ertragsvorschau'!$A$16) | B16: =IF('Ertragsvorschau'!$G$16="","",'Ertragsvorschau'!$G$16) | C16: =IF('Ertragsvorschau'!$K$16="","",'Ertragsvorschau'!$K$16) | D16: =IF('Ertragsvorschau'!$L$16="","",'Ertragsvorschau'!$L$16) | E16: =IF('Ertragsvorschau'!$M$16="","",'Ertragsvorschau'!$M$16)
A17: =IF('Ertragsvorschau'!$A$17="","",'Ertragsvorschau'!$A$17) | B17: =IF('Ertragsvorschau'!$G$17="","",'Ertragsvorschau'!$G$17) | C17: =IF('Ertragsvorschau'!$K$17="","",'Ertragsvorschau'!$K$17) | D17: =IF('Ertragsvorschau'!$L$17="","",'Ertragsvorschau'!$L$17) | E17: =IF('Ertragsvorschau'!$M$17="","",'Ertragsvorschau'!$M$17)
A18: =IF('Ertragsvorschau'!$A$18="","",'Ertragsvorschau'!$A$18) | B18: =IF('Ertragsvorschau'!$G$18="","",'Ertragsvorschau'!$G$18) | C18: =IF('Ertragsvorschau'!$K$18="","",'Ertragsvorschau'!$K$18) | D18: =IF('Ertragsvorschau'!$L$18="","",'Ertragsvorschau'!$L$18) | E18: =IF('Ertragsvorschau'!$M$18="","",'Ertragsvorschau'!$M$18)
A19: =IF('Ertragsvorschau'!$A$19="","",'Ertragsvorschau'!$A$19) | B19: =IF('Ertragsvorschau'!$G$19="","",'Ertragsvorschau'!$G$19) | C19: =IF('Ertragsvorschau'!$K$19="","",'Ertragsvorschau'!$K$19) | D19: =IF('Ertragsvorschau'!$L$19="","",'Ertragsvorschau'!$L$19) | E19: =IF('Ertragsvorschau'!$M$19="","",'Ertragsvorschau'!$M$19)
A20: =IF('Ertragsvorschau'!$A$20="","",'Ertragsvorschau'!$A$20) | B20: =IF('Ertragsvorschau'!$G$20="","",'Ertragsvorschau'!$G$20) | C20: =IF('Ertragsvorschau'!$K$20="","",'Ertragsvorschau'!$K$20) | D20: =IF('Ertragsvorschau'!$L$20="","",'Ertragsvorschau'!$L$20) | E20: =IF('Ertragsvorschau'!$M$20="","",'Ertragsvorschau'!$M$20)
A21: =IF('Ertragsvorschau'!$A$21="","",'Ertragsvorschau'!$A$21) | B21: =IF('Ertragsvorschau'!$G$21="","",'Ertragsvorschau'!$G$21) | C21: =IF('Ertragsvorschau'!$K$21="","",'Ertragsvorschau'!$K$21) | D21: =IF('Ertragsvorschau'!$L$21="","",'Ertragsvorschau'!$L$21) | E21: =IF('Ertragsvorschau'!$M$21="","",'Ertragsvorschau'!$M$21)
A22: =IF('Ertragsvorschau'!$A$22="","",'Ertragsvorschau'!$A$22) | B22: =IF('Ertragsvorschau'!$G$22="","",'Ertragsvorschau'!$G$22) | C22: =IF('Ertragsvorschau'!$K$22="","",'Ertragsvorschau'!$K$22) | D22: =IF('Ertragsvorschau'!$L$22="","",'Ertragsvorschau'!$L$22) | E22: =IF('Ertragsvorschau'!$M$22="","",'Ertragsvorschau'!$M$22)
A23: =IF('Ertragsvorschau'!$A$23="","",'Ertragsvorschau'!$A$23) | B23: =IF('Ertragsvorschau'!$G$23="","",'Ertragsvorschau'!$G$23) | C23: =IF('Ertragsvorschau'!$K$23="","",'Ertragsvorschau'!$K$23) | D23: =IF('Ertragsvorschau'!$L$23="","",'Ertragsvorschau'!$L$23) | E23: =IF('Ertragsvorschau'!$M$23="","",'Ertragsvorschau'!$M$23)
A24: =IF('Ertragsvorschau'!$A$24="","",'Ertragsvorschau'!$A$24) | B24: =IF('Ertragsvorschau'!$G$24="","",'Ertragsvorschau'!$G$24) | C24: =IF('Ertragsvorschau'!$K$24="","",'Ertragsvorschau'!$K$24) | D24: =IF('Ertragsvorschau'!$L$24="","",'Ertragsvorschau'!$L$24) | E24: =IF('Ertragsvorschau'!$M$24="","",'Ertragsvorschau'!$M$24)
A25: =IF('Ertragsvorschau'!$A$25="","",'Ertragsvorschau'!$A$25) | B25: =IF('Ertragsvorschau'!$G$25="","",'Ertragsvorschau'!$G$25) | C25: =IF('Ertragsvorschau'!$K$25="","",'Ertragsvorschau'!$K$25) | D25: =IF('Ertragsvorschau'!$L$25="","",'Ertragsvorschau'!$L$25) | E25: =IF('Ertragsvorschau'!$M$25="","",'Ertragsvorschau'!$M$25)
A26: =IF('Ertragsvorschau'!$A$26="","",'Ertragsvorschau'!$A$26) | B26: =IF('Ertragsvorschau'!$G$26="","",'Ertragsvorschau'!$G$26) | C26: =IF('Ertragsvorschau'!$K$26="","",'Ertragsvorschau'!$K$26) | D26: =IF('Ertragsvorschau'!$L$26="","",'Ertragsvorschau'!$L$26) | E26: =IF('Ertragsvorschau'!$M$26="","",'Ertragsvorschau'!$M$26)
A27: =IF('Ertragsvorschau'!$A$27="","",'Ertragsvorschau'!$A$27) | B27: =IF('Ertragsvorschau'!$G$27="","",'Ertragsvorschau'!$G$27) | C27: =IF('Ertragsvorschau'!$K$27="","",'Ertragsvorschau'!$K$27) | D27: =IF('Ertragsvorschau'!$L$27="","",'Ertragsvorschau'!$L$27) | E27: =IF('Ertragsvorschau'!$M$27="","",'Ertragsvorschau'!$M$27)
A28: =IF('Ertragsvorschau'!$A$28="","",'Ertragsvorschau'!$A$28) | B28: =IF('Ertragsvorschau'!$G$28="","",'Ertragsvorschau'!$G$28) | C28: =IF('Ertragsvorschau'!$K$28="","",'Ertragsvorschau'!$K$28) | D28: =IF('Ertragsvorschau'!$L$28="","",'Ertragsvorschau'!$L$28) | E28: =IF('Ertragsvorschau'!$M$28="","",'Ertragsvorschau'!$M$28)
A29: =IF('Ertragsvorschau'!$A$29="","",'Ertragsvorschau'!$A$29) | B29: =IF('Ertragsvorschau'!$G$29="","",'Ertragsvorschau'!$G$29) | C29: =IF('Ertragsvorschau'!$K$29="","",'Ertragsvorschau'!$K$29) | D29: =IF('Ertragsvorschau'!$L$29="","",'Ertragsvorschau'!$L$29) | E29: =IF('Ertragsvorschau'!$M$29="","",'Ertragsvorschau'!$M$29)
A30: =IF('Ertragsvorschau'!$A$30="","",'Ertragsvorschau'!$A$30) | B30: =IF('Ertragsvorschau'!$G$30="","",'Ertragsvorschau'!$G$30) | C30: =IF('Ertragsvorschau'!$K$30="","",'Ertragsvorschau'!$K$30) | D30: =IF('Ertragsvorschau'!$L$30="","",'Ertragsvorschau'!$L$30) | E30: =IF('Ertragsvorschau'!$M$30="","",'Ertragsvorschau'!$M$30)
A31: =IF('Ertragsvorschau'!$A$31="","",'Ertragsvorschau'!$A$31) | B31: =IF('Ertragsvorschau'!$G$31="","",'Ertragsvorschau'!$G$31) | C31: =IF('Ertragsvorschau'!$K$31="","",'Ertragsvorschau'!$K$31) | D31: =IF('Ertragsvorschau'!$L$31="","",'Ertragsvorschau'!$L$31) | E31: =IF('Ertragsvorschau'!$M$31="","",'Ertragsvorschau'!$M$31)
A32: =IF('Ertragsvorschau'!$A$32="","",'Ertragsvorschau'!$A$32) | B32: =IF('Ertragsvorschau'!$G$32="","",'Ertragsvorschau'!$G$32) | C32: =IF('Ertragsvorschau'!$K$32="","",'Ertragsvorschau'!$K$32) | D32: =IF('Ertragsvorschau'!$L$32="","",'Ertragsvorschau'!$L$32) | E32: =IF('Ertragsvorschau'!$M$32="","",'Ertragsvorschau'!$M$32)
A33: =IF('Ertragsvorschau'!$A$33="","",'Ertragsvorschau'!$A$33) | B33: =IF('Ertragsvorschau'!$G$33="","",'Ertragsvorschau'!$G$33) | C33: =IF('Ertragsvorschau'!$K$33="","",'Ertragsvorschau'!$K$33) | D33: =IF('Ertragsvorschau'!$L$33="","",'Ertragsvorschau'!$L$33) | E33: =IF('Ertragsvorschau'!$M$33="","",'Ertragsvorschau'!$M$33)
A34: =IF('Ertragsvorschau'!$A$34="","",'Ertragsvorschau'!$A$34) | B34: =IF('Ertragsvorschau'!$G$34="","",'Ertragsvorschau'!$G$34) | C34: =IF('Ertragsvorschau'!$K$34="","",'Ertragsvorschau'!$K$34) | D34: =IF('Ertragsvorschau'!$L$34="","",'Ertragsvorschau'!$L$34) | E34: =IF('Ertragsvorschau'!$M$34="","",'Ertragsvorschau'!$M$34)
A35: =IF('Ertragsvorschau'!$A$35="","",'Ertragsvorschau'!$A$35) | B35: =IF('Ertragsvorschau'!$G$35="","",'Ertragsvorschau'!$G$35) | C35: =IF('Ertragsvorschau'!$K$35="","",'Ertragsvorschau'!$K$35) | D35: =IF('Ertragsvorschau'!$L$35="","",'Ertragsvorschau'!$L$35) | E35: =IF('Ertragsvorschau'!$M$35="","",'Ertragsvorschau'!$M$35)
A36: =IF('Ertragsvorschau'!$A$36="","",'Ertragsvorschau'!$A$36) | B36: =IF('Ertragsvorschau'!$G$36="","",'Ertragsvorschau'!$G$36) | C36: =IF('Ertragsvorschau'!$K$36="","",'Ertragsvorschau'!$K$36) | D36: =IF('Ertragsvorschau'!$L$36="","",'Ertragsvorschau'!$L$36) | E36: =IF('Ertragsvorschau'!$M$36="","",'Ertragsvorschau'!$M$36)
A37: =IF('Ertragsvorschau'!$A$37="","",'Ertragsvorschau'!$A$37) | B37: =IF('Ertragsvorschau'!$G$37="","",'Ertragsvorschau'!$G$37) | C37: =IF('Ertragsvorschau'!$K$37="","",'Ertragsvorschau'!$K$37) | D37: =IF('Ertragsvorschau'!$L$37="","",'Ertragsvorschau'!$L$37) | E37: =IF('Ertragsvorschau'!$M$37="","",'Ertragsvorschau'!$M$37)
A38: =IF('Ertragsvorschau'!$A$38="","",'Ertragsvorschau'!$A$38) | B38: =IF('Ertragsvorschau'!$G$38="","",'Ertragsvorschau'!$G$38) | C38: =IF('Ertragsvorschau'!$K$38="","",'Ertragsvorschau'!$K$38) | D38: =IF('Ertragsvorschau'!$L$38="","",'Ertragsvorschau'!$L$38) | E38: =IF('Ertragsvorschau'!$M$38="","",'Ertragsvorschau'!$M$38)
A39: =IF('Ertragsvorschau'!$A$39="","",'Ertragsvorschau'!$A$39) | B39: =IF('Ertragsvorschau'!$G$39="","",'Ertragsvorschau'!$G$39) | C39: =IF('Ertragsvorschau'!$K$39="","",'Ertragsvorschau'!$K$39) | D39: =IF('Ertragsvorschau'!$L$39="","",'Ertragsvorschau'!$L$39) | E39: =IF('Ertragsvorschau'!$M$39="","",'Ertragsvorschau'!$M$39)
A40: =IF('Ertragsvorschau'!$A$40="","",'Ertragsvorschau'!$A$40) | B40: =IF('Ertragsvorschau'!$G$40="","",'Ertragsvorschau'!$G$40) | C40: =IF('Ertragsvorschau'!$K$40="","",'Ertragsvorschau'!$K$40) | D40: =IF('Ertragsvorschau'!$L$40="","",'Ertragsvorschau'!$L$40) | E40: =IF('Ertragsvorschau'!$M$40="","",'Ertragsvorschau'!$M$40)
A41: =IF('Ertragsvorschau'!$A$41="","",'Ertragsvorschau'!$A$41) | B41: =IF('Ertragsvorschau'!$G$41="","",'Ertragsvorschau'!$G$41) | C41: =IF('Ertragsvorschau'!$K$41="","",'Ertragsvorschau'!$K$41) | D41: =IF('Ertragsvorschau'!$L$41="","",'Ertragsvorschau'!$L$41) | E41: =IF('Ertragsvorschau'!$M$41="","",'Ertragsvorschau'!$M$41)
A42: =IF('Ertragsvorschau'!$A$42="","",'Ertragsvorschau'!$A$42) | B42: =IF('Ertragsvorschau'!$G$42="","",'Ertragsvorschau'!$G$42) | C42: =IF('Ertragsvorschau'!$K$42="","",'Ertragsvorschau'!$K$42) | D42: =IF('Ertragsvorschau'!$L$42="","",'Ertragsvorschau'!$L$42) | E42: =IF('Ertragsvorschau'!$M$42="","",'Ertragsvorschau'!$M$42)
A43: =IF('Ertragsvorschau'!$A$43="","",'Ertragsvorschau'!$A$43) | B43: =IF('Ertragsvorschau'!$G$43="","",'Ertragsvorschau'!$G$43) | C43: =IF('Ertragsvorschau'!$K$43="","",'Ertragsvorschau'!$K$43) | D43: =IF('Ertragsvorschau'!$L$43="","",'Ertragsvorschau'!$L$43) | E43: =IF('Ertragsvorschau'!$M$43="","",'Ertragsvorschau'!$M$43)
A44: =IF('Ertragsvorschau'!$A$44="","",'Ertragsvorschau'!$A$44) | B44: =IF('Ertragsvorschau'!$G$44="","",'Ertragsvorschau'!$G$44) | C44: =IF('Ertragsvorschau'!$K$44="","",'Ertragsvorschau'!$K$44) | D44: =IF('Ertragsvorschau'!$L$44="","",'Ertragsvorschau'!$L$44) | E44: =IF('Ertragsvorschau'!$M$44="","",'Ertragsvorschau'!$M$44)
A45: =IF('Ertragsvorschau'!$A$45="","",'Ertragsvorschau'!$A$45) | B45: =IF('Ertragsvorschau'!$G$45="","",'Ertragsvorschau'!$G$45) | C45: =IF('Ertragsvorschau'!$K$45="","",'Ertragsvorschau'!$K$45) | D45: =IF('Ertragsvorschau'!$L$45="","",'Ertragsvorschau'!$L$45) | E45: =IF('Ertragsvorschau'!$M$45="","",'Ertragsvorschau'!$M$45)
A46: =IF('Ertragsvorschau'!$A$46="","",'Ertragsvorschau'!$A$46) | B46: =IF('Ertragsvorschau'!$G$46="","",'Ertragsvorschau'!$G$46) | C46: =IF('Ertragsvorschau'!$K$46="","",'Ertragsvorschau'!$K$46) | D46: =IF('Ertragsvorschau'!$L$46="","",'Ertragsvorschau'!$L$46) | E46: =IF('Ertragsvorschau'!$M$46="","",'Ertragsvorschau'!$M$46)
A47: =IF('Ertragsvorschau'!$A$47="","",'Ertragsvorschau'!$A$47) | B47: =IF('Ertragsvorschau'!$G$47="","",'Ertragsvorschau'!$G$47) | C47: =IF('Ertragsvorschau'!$K$47="","",'Ertragsvorschau'!$K$47) | D47: =IF('Ertragsvorschau'!$L$47="","",'Ertragsvorschau'!$L$47) | E47: =IF('Ertragsvorschau'!$M$47="","",'Ertragsvorschau'!$M$47)
A48: =IF('Ertragsvorschau'!$A$48="","",'Ertragsvorschau'!$A$48) | B48: =IF('Ertragsvorschau'!$G$48="","",'Ertragsvorschau'!$G$48) | C48: =IF('Ertragsvorschau'!$K$48="","",'Ertragsvorschau'!$K$48) | D48: =IF('Ertragsvorschau'!$L$48="","",'Ertragsvorschau'!$L$48) | E48: =IF('Ertragsvorschau'!$M$48="","",'Ertragsvorschau'!$M$48)
A49: =IF('Ertragsvorschau'!$A$49="","",'Ertragsvorschau'!$A$49) | B49: =IF('Ertragsvorschau'!$G$49="","",'Ertragsvorschau'!$G$49) | C49: =IF('Ertragsvorschau'!$K$49="","",'Ertragsvorschau'!$K$49) | D49: =IF('Ertragsvorschau'!$L$49="","",'Ertragsvorschau'!$L$49) | E49: =IF('Ertragsvorschau'!$M$49="","",'Ertragsvorschau'!$M$49)
A50: =IF('Ertragsvorschau'!$A$50="","",'Ertragsvorschau'!$A$50) | B50: =IF('Ertragsvorschau'!$G$50="","",'Ertragsvorschau'!$G$50) | C50: =IF('Ertragsvorschau'!$K$50="","",'Ertragsvorschau'!$K$50) | D50: =IF('Ertragsvorschau'!$L$50="","",'Ertragsvorschau'!$L$50) | E50: =IF('Ertragsvorschau'!$M$50="","",'Ertragsvorschau'!$M$50)
A51: =IF('Ertragsvorschau'!$A$51="","",'Ertragsvorschau'!$A$51) | B51: =IF('Ertragsvorschau'!$G$51="","",'Ertragsvorschau'!$G$51) | C51: =IF('Ertragsvorschau'!$K$51="","",'Ertragsvorschau'!$K$51) | D51: =IF('Ertragsvorschau'!$L$51="","",'Ertragsvorschau'!$L$51) | E51: =IF('Ertragsvorschau'!$M$51="","",'Ertragsvorschau'!$M$51)
A52: =IF('Ertragsvorschau'!$A$52="","",'Ertragsvorschau'!$A$52) | B52: =IF('Ertragsvorschau'!$G$52="","",'Ertragsvorschau'!$G$52) | C52: =IF('Ertragsvorschau'!$K$52="","",'Ertragsvorschau'!$K$52) | D52: =IF('Ertragsvorschau'!$L$52="","",'Ertragsvorschau'!$L$52) | E52: =IF('Ertragsvorschau'!$M$52="","",'Ertragsvorschau'!$M$52)
A53: =IF('Ertragsvorschau'!$A$53="","",'Ertragsvorschau'!$A$53) | B53: =IF('Ertragsvorschau'!$G$53="","",'Ertragsvorschau'!$G$53) | C53: =IF('Ertragsvorschau'!$K$53="","",'Ertragsvorschau'!$K$53) | D53: =IF('Ertragsvorschau'!$L$53="","",'Ertragsvorschau'!$L$53) | E53: =IF('Ertragsvorschau'!$M$53="","",'Ertragsvorschau'!$M$53)
A54: =IF('Ertragsvorschau'!$A$54="","",'Ertragsvorschau'!$A$54) | B54: =IF('Ertragsvorschau'!$G$54="","",'Ertragsvorschau'!$G$54) | C54: =IF('Ertragsvorschau'!$K$54="","",'Ertragsvorschau'!$K$54) | D54: =IF('Ertragsvorschau'!$L$54="","",'Ertragsvorschau'!$L$54) | E54: =IF('Ertragsvorschau'!$M$54="","",'Ertragsvorschau'!$M$54)
A55: =IF('Ertragsvorschau'!$A$55="","",'Ertragsvorschau'!$A$55) | B55: =IF('Ertragsvorschau'!$G$55="","",'Ertragsvorschau'!$G$55) | C55: =IF('Ertragsvorschau'!$K$55="","",'Ertragsvorschau'!$K$55) | D55: =IF('Ertragsvorschau'!$L$55="","",'Ertragsvorschau'!$L$55) | E55: =IF('Ertragsvorschau'!$M$55="","",'Ertragsvorschau'!$M$55)
A56: =IF('Ertragsvorschau'!$A$56="","",'Ertragsvorschau'!$A$56) | B56: =IF('Ertragsvorschau'!$G$56="","",'Ertragsvorschau'!$G$56) | C56: =IF('Ertragsvorschau'!$K$56="","",'Ertragsvorschau'!$K$56) | D56: =IF('Ertragsvorschau'!$L$56="","",'Ertragsvorschau'!$L$56) | E56: =IF('Ertragsvorschau'!$M$56="","",'Ertragsvorschau'!$M$56)
A57: =IF('Ertragsvorschau'!$A$57="","",'Ertragsvorschau'!$A$57) | B57: =IF('Ertragsvorschau'!$G$57="","",'Ertragsvorschau'!$G$57) | C57: =IF('Ertragsvorschau'!$K$57="","",'Ertragsvorschau'!$K$57) | D57: =IF('Ertragsvorschau'!$L$57="","",'Ertragsvorschau'!$L$57) | E57: =IF('Ertragsvorschau'!$M$57="","",'Ertragsvorschau'!$M$57)
A58: =IF('Ertragsvorschau'!$A$58="","",'Ertragsvorschau'!$A$58) | B58: =IF('Ertragsvorschau'!$G$58="","",'Ertragsvorschau'!$G$58) | C58: =IF('Ertragsvorschau'!$K$58="","",'Ertragsvorschau'!$K$58) | D58: =IF('Ertragsvorschau'!$L$58="","",'Ertragsvorschau'!$L$58) | E58: =IF('Ertragsvorschau'!$M$58="","",'Ertragsvorschau'!$M$58)
A59: =IF('Ertragsvorschau'!$A$59="","",'Ertragsvorschau'!$A$59) | B59: =IF('Ertragsvorschau'!$G$59="","",'Ertragsvorschau'!$G$59) | C59: =IF('Ertragsvorschau'!$K$59="","",'Ertragsvorschau'!$K$59) | D59: =IF('Ertragsvorschau'!$L$59="","",'Ertragsvorschau'!$L$59) | E59: =IF('Ertragsvorschau'!$M$59="","",'Ertragsvorschau'!$M$59)
A60: =IF('Ertragsvorschau'!$A$60="","",'Ertragsvorschau'!$A$60) | B60: =IF('Ertragsvorschau'!$G$60="","",'Ertragsvorschau'!$G$60) | C60: =IF('Ertragsvorschau'!$K$60="","",'Ertragsvorschau'!$K$60) | D60: =IF('Ertragsvorschau'!$L$60="","",'Ertragsvorschau'!$L$60) | E60: =IF('Ertragsvorschau'!$M$60="","",'Ertragsvorschau'!$M$60)
A61: =IF('Ertragsvorschau'!$A$61="","",'Ertragsvorschau'!$A$61) | B61: =IF('Ertragsvorschau'!$G$61="","",'Ertragsvorschau'!$G$61) | C61: =IF('Ertragsvorschau'!$K$61="","",'Ertragsvorschau'!$K$61) | D61: =IF('Ertragsvorschau'!$L$61="","",'Ertragsvorschau'!$L$61) | E61: =IF('Ertragsvorschau'!$M$61="","",'Ertragsvorschau'!$M$61)
A62: =IF('Ertragsvorschau'!$A$62="","",'Ertragsvorschau'!$A$62) | B62: =IF('Ertragsvorschau'!$G$62="","",'Ertragsvorschau'!$G$62) | C62: =IF('Ertragsvorschau'!$K$62="","",'Ertragsvorschau'!$K$62) | D62: =IF('Ertragsvorschau'!$L$62="","",'Ertragsvorschau'!$L$62) | E62: =IF('Ertragsvorschau'!$M$62="","",'Ertragsvorschau'!$M$62)
A63: =IF('Ertragsvorschau'!$A$63="","",'Ertragsvorschau'!$A$63) | B63: =IF('Ertragsvorschau'!$G$63="","",'Ertragsvorschau'!$G$63) | C63: =IF('Ertragsvorschau'!$K$63="","",'Ertragsvorschau'!$K$63) | D63: =IF('Ertragsvorschau'!$L$63="","",'Ertragsvorschau'!$L$63) | E63: =IF('Ertragsvorschau'!$M$63="","",'Ertragsvorschau'!$M$63)
A64: =IF('Ertragsvorschau'!$A$64="","",'Ertragsvorschau'!$A$64) | B64: =IF('Ertragsvorschau'!$G$64="","",'Ertragsvorschau'!$G$64) | C64: =IF('Ertragsvorschau'!$K$64="","",'Ertragsvorschau'!$K$64) | D64: =IF('Ertragsvorschau'!$L$64="","",'Ertragsvorschau'!$L$64) | E64: =IF('Ertragsvorschau'!$M$64="","",'Ertragsvorschau'!$M$64)
A65: =IF('Ertragsvorschau'!$A$65="","",'Ertragsvorschau'!$A$65) | B65: =IF('Ertragsvorschau'!$G$65="","",'Ertragsvorschau'!$G$65) | C65: =IF('Ertragsvorschau'!$K$65="","",'Ertragsvorschau'!$K$65) | D65: =IF('Ertragsvorschau'!$L$65="","",'Ertragsvorschau'!$L$65) | E65: =IF('Ertragsvorschau'!$M$65="","",'Ertragsvorschau'!$M$65)
A66: =IF('Ertragsvorschau'!$A$66="","",'Ertragsvorschau'!$A$66) | B66: =IF('Ertragsvorschau'!$G$66="","",'Ertragsvorschau'!$G$66) | C66: =IF('Ertragsvorschau'!$K$66="","",'Ertragsvorschau'!$K$66) | D66: =IF('Ertragsvorschau'!$L$66="","",'Ertragsvorschau'!$L$66) | E66: =IF('Ertragsvorschau'!$M$66="","",'Ertragsvorschau'!$M$66)
A67: =IF('Ertragsvorschau'!$A$67="","",'Ertragsvorschau'!$A$67) | B67: =IF('Ertragsvorschau'!$G$67="","",'Ertragsvorschau'!$G$67) | C67: =IF('Ertragsvorschau'!$K$67="","",'Ertragsvorschau'!$K$67) | D67: =IF('Ertragsvorschau'!$L$67="","",'Ertragsvorschau'!$L$67) | E67: =IF('Ertragsvorschau'!$M$67="","",'Ertragsvorschau'!$M$67)
A68: =IF('Ertragsvorschau'!$A$68="","",'Ertragsvorschau'!$A$68) | B68: =IF('Ertragsvorschau'!$G$68="","",'Ertragsvorschau'!$G$68) | C68: =IF('Ertragsvorschau'!$K$68="","",'Ertragsvorschau'!$K$68) | D68: =IF('Ertragsvorschau'!$L$68="","",'Ertragsvorschau'!$L$68) | E68: =IF('Ertragsvorschau'!$M$68="","",'Ertragsvorschau'!$M$68)
A69: =IF('Ertragsvorschau'!$A$69="","",'Ertragsvorschau'!$A$69) | B69: =IF('Ertragsvorschau'!$G$69="","",'Ertragsvorschau'!$G$69) | C69: =IF('Ertragsvorschau'!$K$69="","",'Ertragsvorschau'!$K$69) | D69: =IF('Ertragsvorschau'!$L$69="","",'Ertragsvorschau'!$L$69) | E69: =IF('Ertragsvorschau'!$M$69="","",'Ertragsvorschau'!$M$69)
A70: =IF('Ertragsvorschau'!$A$70="","",'Ertragsvorschau'!$A$70) | B70: =IF('Ertragsvorschau'!$G$70="","",'Ertragsvorschau'!$G$70) | C70: =IF('Ertragsvorschau'!$K$70="","",'Ertragsvorschau'!$K$70) | D70: =IF('Ertragsvorschau'!$L$70="","",'Ertragsvorschau'!$L$70) | E70: =IF('Ertragsvorschau'!$M$70="","",'Ertragsvorschau'!$M$70)
A71: =IF('Ertragsvorschau'!$A$71="","",'Ertragsvorschau'!$A$71) | B71: =IF('Ertragsvorschau'!$G$71="","",'Ertragsvorschau'!$G$71) | C71: =IF('Ertragsvorschau'!$K$71="","",'Ertragsvorschau'!$K$71) | D71: =IF('Ertragsvorschau'!$L$71="","",'Ertragsvorschau'!$L$71) | E71: =IF('Ertragsvorschau'!$M$71="","",'Ertragsvorschau'!$M$71)
A72: =IF('Ertragsvorschau'!$A$72="","",'Ertragsvorschau'!$A$72) | B72: =IF('Ertragsvorschau'!$G$72="","",'Ertragsvorschau'!$G$72) | C72: =IF('Ertragsvorschau'!$K$72="","",'Ertragsvorschau'!$K$72) | D72: =IF('Ertragsvorschau'!$L$72="","",'Ertragsvorschau'!$L$72) | E72: =IF('Ertragsvorschau'!$M$72="","",'Ertragsvorschau'!$M$72)
A73: =IF('Ertragsvorschau'!$A$73="","",'Ertragsvorschau'!$A$73) | B73: =IF('Ertragsvorschau'!$G$73="","",'Ertragsvorschau'!$G$73) | C73: =IF('Ertragsvorschau'!$K$73="","",'Ertragsvorschau'!$K$73) | D73: =IF('Ertragsvorschau'!$L$73="","",'Ertragsvorschau'!$L$73) | E73: =IF('Ertragsvorschau'!$M$73="","",'Ertragsvorschau'!$M$73)
A74: =IF('Ertragsvorschau'!$A$74="","",'Ertragsvorschau'!$A$74) | B74: =IF('Ertragsvorschau'!$G$74="","",'Ertragsvorschau'!$G$74) | C74: =IF('Ertragsvorschau'!$K$74="","",'Ertragsvorschau'!$K$74) | D74: =IF('Ertragsvorschau'!$L$74="","",'Ertragsvorschau'!$L$74) | E74: =IF('Ertragsvorschau'!$M$74="","",'Ertragsvorschau'!$M$74)
A75: =IF('Ertragsvorschau'!$A$75="","",'Ertragsvorschau'!$A$75) | B75: =IF('Ertragsvorschau'!$G$75="","",'Ertragsvorschau'!$G$75) | C75: =IF('Ertragsvorschau'!$K$75="","",'Ertragsvorschau'!$K$75) | D75: =IF('Ertragsvorschau'!$L$75="","",'Ertragsvorschau'!$L$75) | E75: =IF('Ertragsvorschau'!$M$75="","",'Ertragsvorschau'!$M$75)
A76: =IF('Ertragsvorschau'!$A$76="","",'Ertragsvorschau'!$A$76) | B76: =IF('Ertragsvorschau'!$G$76="","",'Ertragsvorschau'!$G$76) | C76: =IF('Ertragsvorschau'!$K$76="","",'Ertragsvorschau'!$K$76) | D76: =IF('Ertragsvorschau'!$L$76="","",'Ertragsvorschau'!$L$76) | E76: =IF('Ertragsvorschau'!$M$76="","",'Ertragsvorschau'!$M$76)
A77: =IF('Ertragsvorschau'!$A$77="","",'Ertragsvorschau'!$A$77) | B77: =IF('Ertragsvorschau'!$G$77="","",'Ertragsvorschau'!$G$77) | C77: =IF('Ertragsvorschau'!$K$77="","",'Ertragsvorschau'!$K$77) | D77: =IF('Ertragsvorschau'!$L$77="","",'Ertragsvorschau'!$L$77) | E77: =IF('Ertragsvorschau'!$M$77="","",'Ertragsvorschau'!$M$77)
A78: =IF('Ertragsvorschau'!$A$78="","",'Ertragsvorschau'!$A$78) | B78: =IF('Ertragsvorschau'!$G$78="","",'Ertragsvorschau'!$G$78) | C78: =IF('Ertragsvorschau'!$K$78="","",'Ertragsvorschau'!$K$78) | D78: =IF('Ertragsvorschau'!$L$78="","",'Ertragsvorschau'!$L$78) | E78: =IF('Ertragsvorschau'!$M$78="","",'Ertragsvorschau'!$M$78)
A79: =IF('Ertragsvorschau'!$A$79="","",'Ertragsvorschau'!$A$79) | B79: =IF('Ertragsvorschau'!$G$79="","",'Ertragsvorschau'!$G$79) | C79: =IF('Ertragsvorschau'!$K$79="","",'Ertragsvorschau'!$K$79) | D79: =IF('Ertragsvorschau'!$L$79="","",'Ertragsvorschau'!$L$79) | E79: =IF('Ertragsvorschau'!$M$79="","",'Ertragsvorschau'!$M$79)
A80: =IF('Ertragsvorschau'!$A$80="","",'Ertragsvorschau'!$A$80) | B80: =IF('Ertragsvorschau'!$G$80="","",'Ertragsvorschau'!$G$80) | C80: =IF('Ertragsvorschau'!$K$80="","",'Ertragsvorschau'!$K$80) | D80: =IF('Ertragsvorschau'!$L$80="","",'Ertragsvorschau'!$L$80) | E80: =IF('Ertragsvorschau'!$M$80="","",'Ertragsvorschau'!$M$80)
A81: =IF('Ertragsvorschau'!$A$81="","",'Ertragsvorschau'!$A$81) | B81: =IF('Ertragsvorschau'!$G$81="","",'Ertragsvorschau'!$G$81) | C81: =IF('Ertragsvorschau'!$K$81="","",'Ertragsvorschau'!$K$81) | D81: =IF('Ertragsvorschau'!$L$81="","",'Ertragsvorschau'!$L$81) | E81: =IF('Ertragsvorschau'!$M$81="","",'Ertragsvorschau'!$M$81)
A82: =IF('Ertragsvorschau'!$A$82="","",'Ertragsvorschau'!$A$82) | B82: =IF('Ertragsvorschau'!$G$82="","",'Ertragsvorschau'!$G$82) | C82: =IF('Ertragsvorschau'!$K$82="","",'Ertragsvorschau'!$K$82) | D82: =IF('Ertragsvorschau'!$L$82="","",'Ertragsvorschau'!$L$82) | E82: =IF('Ertragsvorschau'!$M$82="","",'Ertragsvorschau'!$M$82)
A83: =IF('Ertragsvorschau'!$A$83="","",'Ertragsvorschau'!$A$83) | B83: =IF('Ertragsvorschau'!$G$83="","",'Ertragsvorschau'!$G$83) | C83: =IF('Ertragsvorschau'!$K$83="","",'Ertragsvorschau'!$K$83) | D83: =IF('Ertragsvorschau'!$L$83="","",'Ertragsvorschau'!$L$83) | E83: =IF('Ertragsvorschau'!$M$83="","",'Ertragsvorschau'!$M$83)
A84: =IF('Ertragsvorschau'!$A$84="","",'Ertragsvorschau'!$A$84) | B84: =IF('Ertragsvorschau'!$G$84="","",'Ertragsvorschau'!$G$84) | C84: =IF('Ertragsvorschau'!$K$84="","",'Ertragsvorschau'!$K$84) | D84: =IF('Ertragsvorschau'!$L$84="","",'Ertragsvorschau'!$L$84) | E84: =IF('Ertragsvorschau'!$M$84="","",'Ertragsvorschau'!$M$84)
A85: =IF('Ertragsvorschau'!$A$85="","",'Ertragsvorschau'!$A$85) | B85: =IF('Ertragsvorschau'!$G$85="","",'Ertragsvorschau'!$G$85) | C85: =IF('Ertragsvorschau'!$K$85="","",'Ertragsvorschau'!$K$85) | D85: =IF('Ertragsvorschau'!$L$85="","",'Ertragsvorschau'!$L$85) | E85: =IF('Ertragsvorschau'!$M$85="","",'Ertragsvorschau'!$M$85)
A86: =IF('Ertragsvorschau'!$A$86="","",'Ertragsvorschau'!$A$86) | B86: =IF('Ertragsvorschau'!$G$86="","",'Ertragsvorschau'!$G$86) | C86: =IF('Ertragsvorschau'!$K$86="","",'Ertragsvorschau'!$K$86) | D86: =IF('Ertragsvorschau'!$L$86="","",'Ertragsvorschau'!$L$86) | E86: =IF('Ertragsvorschau'!$M$86="","",'Ertragsvorschau'!$M$86)
A87: =IF('Ertragsvorschau'!$A$87="","",'Ertragsvorschau'!$A$87) | B87: =IF('Ertragsvorschau'!$G$87="","",'Ertragsvorschau'!$G$87) | C87: =IF('Ertragsvorschau'!$K$87="","",'Ertragsvorschau'!$K$87) | D87: =IF('Ertragsvorschau'!$L$87="","",'Ertragsvorschau'!$L$87) | E87: =IF('Ertragsvorschau'!$M$87="","",'Ertragsvorschau'!$M$87)
A88: =IF('Ertragsvorschau'!$A$88="","",'Ertragsvorschau'!$A$88) | B88: =IF('Ertragsvorschau'!$G$88="","",'Ertragsvorschau'!$G$88) | C88: =IF('Ertragsvorschau'!$K$88="","",'Ertragsvorschau'!$K$88) | D88: =IF('Ertragsvorschau'!$L$88="","",'Ertragsvorschau'!$L$88) | E88: =IF('Ertragsvorschau'!$M$88="","",'Ertragsvorschau'!$M$88)
A89: =IF('Ertragsvorschau'!$A$89="","",'Ertragsvorschau'!$A$89) | B89: =IF('Ertragsvorschau'!$G$89="","",'Ertragsvorschau'!$G$89) | C89: =IF('Ertragsvorschau'!$K$89="","",'Ertragsvorschau'!$K$89) | D89: =IF('Ertragsvorschau'!$L$89="","",'Ertragsvorschau'!$L$89) | E89: =IF('Ertragsvorschau'!$M$89="","",'Ertragsvorschau'!$M$89)
A90: =IF('Ertragsvorschau'!$A$90="","",'Ertragsvorschau'!$A$90) | B90: =IF('Ertragsvorschau'!$G$90="","",'Ertragsvorschau'!$G$90) | C90: =IF('Ertragsvorschau'!$K$90="","",'Ertragsvorschau'!$K$90) | D90: =IF('Ertragsvorschau'!$L$90="","",'Ertragsvorschau'!$L$90) | E90: =IF('Ertragsvorschau'!$M$90="","",'Ertragsvorschau'!$M$90)
A91: =IF('Ertragsvorschau'!$A$91="","",'Ertragsvorschau'!$A$91) | B91: =IF('Ertragsvorschau'!$G$91="","",'Ertragsvorschau'!$G$91) | C91: =IF('Ertragsvorschau'!$K$91="","",'Ertragsvorschau'!$K$91) | D91: =IF('Ertragsvorschau'!$L$91="","",'Ertragsvorschau'!$L$91) | E91: =IF('Ertragsvorschau'!$M$91="","",'Ertragsvorschau'!$M$91)
A92: =IF('Ertragsvorschau'!$A$92="","",'Ertragsvorschau'!$A$92) | B92: =IF('Ertragsvorschau'!$G$92="","",'Ertragsvorschau'!$G$92) | C92: =IF('Ertragsvorschau'!$K$92="","",'Ertragsvorschau'!$K$92) | D92: =IF('Ertragsvorschau'!$L$92="","",'Ertragsvorschau'!$L$92) | E92: =IF('Ertragsvorschau'!$M$92="","",'Ertragsvorschau'!$M$92)
A93: =IF('Ertragsvorschau'!$A$93="","",'Ertragsvorschau'!$A$93) | B93: =IF('Ertragsvorschau'!$G$93="","",'Ertragsvorschau'!$G$93) | C93: =IF('Ertragsvorschau'!$K$93="","",'Ertragsvorschau'!$K$93) | D93: =IF('Ertragsvorschau'!$L$93="","",'Ertragsvorschau'!$L$93) | E93: =IF('Ertragsvorschau'!$M$93="","",'Ertragsvorschau'!$M$93)
A94: =IF('Ertragsvorschau'!$A$94="","",'Ertragsvorschau'!$A$94) | B94: =IF('Ertragsvorschau'!$G$94="","",'Ertragsvorschau'!$G$94) | C94: =IF('Ertragsvorschau'!$K$94="","",'Ertragsvorschau'!$K$94) | D94: =IF('Ertragsvorschau'!$L$94="","",'Ertragsvorschau'!$L$94) | E94: =IF('Ertragsvorschau'!$M$94="","",'Ertragsvorschau'!$M$94)
A95: =IF('Ertragsvorschau'!$A$95="","",'Ertragsvorschau'!$A$95) | B95: =IF('Ertragsvorschau'!$G$95="","",'Ertragsvorschau'!$G$95) | C95: =IF('Ertragsvorschau'!$K$95="","",'Ertragsvorschau'!$K$95) | D95: =IF('Ertragsvorschau'!$L$95="","",'Ertragsvorschau'!$L$95) | E95: =IF('Ertragsvorschau'!$M$95="","",'Ertragsvorschau'!$M$95)
A96: =IF('Ertragsvorschau'!$A$96="","",'Ertragsvorschau'!$A$96) | B96: =IF('Ertragsvorschau'!$G$96="","",'Ertragsvorschau'!$G$96) | C96: =IF('Ertragsvorschau'!$K$96="","",'Ertragsvorschau'!$K$96) | D96: =IF('Ertragsvorschau'!$L$96="","",'Ertragsvorschau'!$L$96) | E96: =IF('Ertragsvorschau'!$M$96="","",'Ertragsvorschau'!$M$96)
A97: =IF('Ertragsvorschau'!$A$97="","",'Ertragsvorschau'!$A$97) | B97: =IF('Ertragsvorschau'!$G$97="","",'Ertragsvorschau'!$G$97) | C97: =IF('Ertragsvorschau'!$K$97="","",'Ertragsvorschau'!$K$97) | D97: =IF('Ertragsvorschau'!$L$97="","",'Ertragsvorschau'!$L$97) | E97: =IF('Ertragsvorschau'!$M$97="","",'Ertragsvorschau'!$M$97)
A98: =IF('Ertragsvorschau'!$A$98="","",'Ertragsvorschau'!$A$98) | B98: =IF('Ertragsvorschau'!$G$98="","",'Ertragsvorschau'!$G$98) | C98: =IF('Ertragsvorschau'!$K$98="","",'Ertragsvorschau'!$K$98) | D98: =IF('Ertragsvorschau'!$L$98="","",'Ertragsvorschau'!$L$98) | E98: =IF('Ertragsvorschau'!$M$98="","",'Ertragsvorschau'!$M$98)
A99: =IF('Ertragsvorschau'!$A$99="","",'Ertragsvorschau'!$A$99) | B99: =IF('Ertragsvorschau'!$G$99="","",'Ertragsvorschau'!$G$99) | C99: =IF('Ertragsvorschau'!$K$99="","",'Ertragsvorschau'!$K$99) | D99: =IF('Ertragsvorschau'!$L$99="","",'Ertragsvorschau'!$L$99) | E99: =IF('Ertragsvorschau'!$M$99="","",'Ertragsvorschau'!$M$99)
A100: =IF('Ertragsvorschau'!$A$100="","",'Ertragsvorschau'!$A$100) | B100: =IF('Ertragsvorschau'!$G$100="","",'Ertragsvorschau'!$G$100) | C100: =IF('Ertragsvorschau'!$K$100="","",'Ertragsvorschau'!$K$100) | D100: =IF('Ertragsvorschau'!$L$100="","",'Ertragsvorschau'!$L$100) | E100: =IF('Ertragsvorschau'!$M$100="","",'Ertragsvorschau'!$M$100)
A101: =IF('Ertragsvorschau'!$A$101="","",'Ertragsvorschau'!$A$101) | B101: =IF('Ertragsvorschau'!$G$101="","",'Ertragsvorschau'!$G$101) | C101: =IF('Ertragsvorschau'!$K$101="","",'Ertragsvorschau'!$K$101) | D101: =IF('Ertragsvorschau'!$L$101="","",'Ertragsvorschau'!$L$101) | E101: =IF('Ertragsvorschau'!$M$101="","",'Ertragsvorschau'!$M$101)
A102: =IF('Ertragsvorschau'!$A$102="","",'Ertragsvorschau'!$A$102) | B102: =IF('Ertragsvorschau'!$G$102="","",'Ertragsvorschau'!$G$102) | C102: =IF('Ertragsvorschau'!$K$102="","",'Ertragsvorschau'!$K$102) | D102: =IF('Ertragsvorschau'!$L$102="","",'Ertragsvorschau'!$L$102) | E102: =IF('Ertragsvorschau'!$M$102="","",'Ertragsvorschau'!$M$102)
A103: =IF('Ertragsvorschau'!$A$103="","",'Ertragsvorschau'!$A$103) | B103: =IF('Ertragsvorschau'!$G$103="","",'Ertragsvorschau'!$G$103) | C103: =IF('Ertragsvorschau'!$K$103="","",'Ertragsvorschau'!$K$103) | D103: =IF('Ertragsvorschau'!$L$103="","",'Ertragsvorschau'!$L$103) | E103: =IF('Ertragsvorschau'!$M$103="","",'Ertragsvorschau'!$M$103)
...

Sheet Anleitung
A1: Anleitung zur Ertragsvorschau
H2: Szenario | I2: Kostenfaktor
A3: 1. Ertragsvorschau | B3: Erfassen Sie monatlich Projekte, Erlöse, Kosten und Vorsteuer. Die hellgelb markierten Zellen sind Eingabezellen. | H3: Vorsichtig | I3: 1.1
H4: Basis | I4: 1
A5: 2. Szenario | B5: Wählen Sie im Blatt Ertragsvorschau in Zelle B3 eine Variante. Der Kostenfaktor wird automatisch aus der Tabelle rechts ermittelt. | H5: Optimistisch | I5: 0.95
A7: 3. Übersicht | B7: Das Dashboard fasst Umsatz, Aufwand, Ergebnis, Umsatzrentabilität, Gewinnmonate und die voraussichtliche USt-Zahllast zusammen. | H7: Hinweis
H8: Die Faktoren sind frei editierbare Planannahmen.
A9: 4. Formeln | B9: Gesamtleistung, Gesamtaufwand, Betriebsergebnis, Umsatzrentabilität, USt und Szenariowerte werden automatisch berechnet.
A11: 5. Planannahmen | B11: Der USt-Satz und der Planungszeitraum sind editierbare Annahmen. Ergänzen Sie bei Bedarf weitere Monate in den vorbereiteten Zeilen.
A13: 6. Steuerlicher Hinweis | B13: Die USt-Berechnung dient ausschließlich der Planung. Prüfen Sie individuelle steuerliche Sachverhalte mit Ihrer Steuerberatung.
A15: Spaltenerläuterung | B15: Erlöse und Kosten werden netto geplant. Vorsteuer ist die voraussichtlich abzugsfähige Vorsteuer des jeweiligen Monats.
A17: Szenarioaufwand | B17: Der Szenarioaufwand entspricht dem Gesamtaufwand multipliziert mit dem gewählten Kostenfaktor. Das Szenarioergebnis basiert auf diesem Aufwand.
