Workbook

Sheet Prüfungen
A1: Prüf-ID | B1: Prüfdatum | C1: Prüfer/in | D1: Standort | E1: Artikelnummer | F1: Bezeichnung | G1: Merkmal | H1: Einheit | I1: Nennwert | J1: Untere Abweichung | K1: Obere Abweichung | L1: Untere Toleranzgrenze | M1: Obere Toleranzgrenze | N1: Messwert | O1: Abweichung zum Nennwert | P1: Toleranzbreite | Q1: Toleranzauslastung (%) | R1: Prüfergebnis | S1: Bemerkung
A2: PR-2026-001 | B2: 46036 | C2: Anna | D2: Berlin | E2: ART-1001 | F2: Pumpengehäuse | G2: Gehäuselänge | H2: mm | I2: 120 | J2: -0.5 | K2: 0.5 | L2: =IF(OR('Prüfungen'!$A2="",'Prüfungen'!$I2="",'Prüfungen'!$J2=""),"",'Prüfungen'!$I2+'Prüfungen'!$J2) | M2: =IF(OR('Prüfungen'!$A2="",'Prüfungen'!$I2="",'Prüfungen'!$K2=""),"",'Prüfungen'!$I2+'Prüfungen'!$K2) | N2: 120.24 | O2: =IF(OR('Prüfungen'!$A2="",'Prüfungen'!$I2="",'Prüfungen'!$N2=""),"",'Prüfungen'!$N2-'Prüfungen'!$I2) | P2: =IF(OR('Prüfungen'!$A2="",'Prüfungen'!$L2="",'Prüfungen'!$M2=""),"",'Prüfungen'!$M2-'Prüfungen'!$L2) | Q2: =IF(OR('Prüfungen'!$A2="",'Prüfungen'!$I2="",'Prüfungen'!$J2="",'Prüfungen'!$K2="",'Prüfungen'!$N2=""),"",IFERROR(ABS('Prüfungen'!$O2)/(('Prüfungen'!$M2-'Prüfungen'!$L2)/2),0)) | R2: =IF(OR('Prüfungen'!$A2="",'Prüfungen'!$L2="",'Prüfungen'!$M2="",'Prüfungen'!$N2=""),"",IF(AND('Prüfungen'!$N2>='Prüfungen'!$L2,'Prüfungen'!$N2<='Prüfungen'!$M2),"i.O.","n.i.O.")) | S2: Serienstichprobe
A3: PR-2026-002 | B3: 46062 | C3: Lukas | D3: München | E3: ART-1002 | F3: Achsträger | G3: Bohrungsdurchmesser | H3: mm | I3: 18 | J3: -0.05 | K3: 0.05 | L3: =IF(OR('Prüfungen'!$A3="",'Prüfungen'!$I3="",'Prüfungen'!$J3=""),"",'Prüfungen'!$I3+'Prüfungen'!$J3) | M3: =IF(OR('Prüfungen'!$A3="",'Prüfungen'!$I3="",'Prüfungen'!$K3=""),"",'Prüfungen'!$I3+'Prüfungen'!$K3) | N3: 17.93 | O3: =IF(OR('Prüfungen'!$A3="",'Prüfungen'!$I3="",'Prüfungen'!$N3=""),"",'Prüfungen'!$N3-'Prüfungen'!$I3) | P3: =IF(OR('Prüfungen'!$A3="",'Prüfungen'!$L3="",'Prüfungen'!$M3=""),"",'Prüfungen'!$M3-'Prüfungen'!$L3) | Q3: =IF(OR('Prüfungen'!$A3="",'Prüfungen'!$I3="",'Prüfungen'!$J3="",'Prüfungen'!$K3="",'Prüfungen'!$N3=""),"",IFERROR(ABS('Prüfungen'!$O3)/(('Prüfungen'!$M3-'Prüfungen'!$L3)/2),0)) | R3: =IF(OR('Prüfungen'!$A3="",'Prüfungen'!$L3="",'Prüfungen'!$M3="",'Prüfungen'!$N3=""),"",IF(AND('Prüfungen'!$N3>='Prüfungen'!$L3,'Prüfungen'!$N3<='Prüfungen'!$M3),"i.O.","n.i.O.")) | S3: Untermaß festgestellt
A4: PR-2026-003 | B4: 46099 | C4: Julia | D4: Hamburg | E4: ART-1003 | F4: Antriebswelle | G4: Wellenlänge | H4: mm | I4: 250 | J4: -0.8 | K4: 0.8 | L4: =IF(OR('Prüfungen'!$A4="",'Prüfungen'!$I4="",'Prüfungen'!$J4=""),"",'Prüfungen'!$I4+'Prüfungen'!$J4) | M4: =IF(OR('Prüfungen'!$A4="",'Prüfungen'!$I4="",'Prüfungen'!$K4=""),"",'Prüfungen'!$I4+'Prüfungen'!$K4) | N4: 250.41 | O4: =IF(OR('Prüfungen'!$A4="",'Prüfungen'!$I4="",'Prüfungen'!$N4=""),"",'Prüfungen'!$N4-'Prüfungen'!$I4) | P4: =IF(OR('Prüfungen'!$A4="",'Prüfungen'!$L4="",'Prüfungen'!$M4=""),"",'Prüfungen'!$M4-'Prüfungen'!$L4) | Q4: =IF(OR('Prüfungen'!$A4="",'Prüfungen'!$I4="",'Prüfungen'!$J4="",'Prüfungen'!$K4="",'Prüfungen'!$N4=""),"",IFERROR(ABS('Prüfungen'!$O4)/(('Prüfungen'!$M4-'Prüfungen'!$L4)/2),0)) | R4: =IF(OR('Prüfungen'!$A4="",'Prüfungen'!$L4="",'Prüfungen'!$M4="",'Prüfungen'!$N4=""),"",IF(AND('Prüfungen'!$N4>='Prüfungen'!$L4,'Prüfungen'!$N4<='Prüfungen'!$M4),"i.O.","n.i.O.")) | S4: Messung innerhalb Vorgabe
A5: PR-2026-004 | B5: 46134 | C5: Maximilian | D5: Köln | E5: ART-1004 | F5: Abdeckblech | G5: Blechstärke | H5: mm | I5: 1.5 | J5: -0.1 | K5: 0.1 | L5: =IF(OR('Prüfungen'!$A5="",'Prüfungen'!$I5="",'Prüfungen'!$J5=""),"",'Prüfungen'!$I5+'Prüfungen'!$J5) | M5: =IF(OR('Prüfungen'!$A5="",'Prüfungen'!$I5="",'Prüfungen'!$K5=""),"",'Prüfungen'!$I5+'Prüfungen'!$K5) | N5: 1.61 | O5: =IF(OR('Prüfungen'!$A5="",'Prüfungen'!$I5="",'Prüfungen'!$N5=""),"",'Prüfungen'!$N5-'Prüfungen'!$I5) | P5: =IF(OR('Prüfungen'!$A5="",'Prüfungen'!$L5="",'Prüfungen'!$M5=""),"",'Prüfungen'!$M5-'Prüfungen'!$L5) | Q5: =IF(OR('Prüfungen'!$A5="",'Prüfungen'!$I5="",'Prüfungen'!$J5="",'Prüfungen'!$K5="",'Prüfungen'!$N5=""),"",IFERROR(ABS('Prüfungen'!$O5)/(('Prüfungen'!$M5-'Prüfungen'!$L5)/2),0)) | R5: =IF(OR('Prüfungen'!$A5="",'Prüfungen'!$L5="",'Prüfungen'!$M5="",'Prüfungen'!$N5=""),"",IF(AND('Prüfungen'!$N5>='Prüfungen'!$L5,'Prüfungen'!$N5<='Prüfungen'!$M5),"i.O.","n.i.O.")) | S5: Obermaß festgestellt
A6: PR-2026-005 | B6: 46155 | C6: Sophie | D6: Frankfurt | E6: ART-1005 | F6: Versandkarton | G6: Verpackungsgewicht | H6: g | I6: 500 | J6: -15 | K6: 15 | L6: =IF(OR('Prüfungen'!$A6="",'Prüfungen'!$I6="",'Prüfungen'!$J6=""),"",'Prüfungen'!$I6+'Prüfungen'!$J6) | M6: =IF(OR('Prüfungen'!$A6="",'Prüfungen'!$I6="",'Prüfungen'!$K6=""),"",'Prüfungen'!$I6+'Prüfungen'!$K6) | N6: 492.8 | O6: =IF(OR('Prüfungen'!$A6="",'Prüfungen'!$I6="",'Prüfungen'!$N6=""),"",'Prüfungen'!$N6-'Prüfungen'!$I6) | P6: =IF(OR('Prüfungen'!$A6="",'Prüfungen'!$L6="",'Prüfungen'!$M6=""),"",'Prüfungen'!$M6-'Prüfungen'!$L6) | Q6: =IF(OR('Prüfungen'!$A6="",'Prüfungen'!$I6="",'Prüfungen'!$J6="",'Prüfungen'!$K6="",'Prüfungen'!$N6=""),"",IFERROR(ABS('Prüfungen'!$O6)/(('Prüfungen'!$M6-'Prüfungen'!$L6)/2),0)) | R6: =IF(OR('Prüfungen'!$A6="",'Prüfungen'!$L6="",'Prüfungen'!$M6="",'Prüfungen'!$N6=""),"",IF(AND('Prüfungen'!$N6>='Prüfungen'!$L6,'Prüfungen'!$N6<='Prüfungen'!$M6),"i.O.","n.i.O.")) | S6: Wareneingang geprüft
A7: PR-2026-006 | B7: 46190 | C7: Felix | D7: Stuttgart | E7: ART-1006 | F7: Flanschdichtung | G7: Dichtungsbreite | H7: mm | I7: 12 | J7: -0.2 | K7: 0.2 | L7: =IF(OR('Prüfungen'!$A7="",'Prüfungen'!$I7="",'Prüfungen'!$J7=""),"",'Prüfungen'!$I7+'Prüfungen'!$J7) | M7: =IF(OR('Prüfungen'!$A7="",'Prüfungen'!$I7="",'Prüfungen'!$K7=""),"",'Prüfungen'!$I7+'Prüfungen'!$K7) | N7: 12.18 | O7: =IF(OR('Prüfungen'!$A7="",'Prüfungen'!$I7="",'Prüfungen'!$N7=""),"",'Prüfungen'!$N7-'Prüfungen'!$I7) | P7: =IF(OR('Prüfungen'!$A7="",'Prüfungen'!$L7="",'Prüfungen'!$M7=""),"",'Prüfungen'!$M7-'Prüfungen'!$L7) | Q7: =IF(OR('Prüfungen'!$A7="",'Prüfungen'!$I7="",'Prüfungen'!$J7="",'Prüfungen'!$K7="",'Prüfungen'!$N7=""),"",IFERROR(ABS('Prüfungen'!$O7)/(('Prüfungen'!$M7-'Prüfungen'!$L7)/2),0)) | R7: =IF(OR('Prüfungen'!$A7="",'Prüfungen'!$L7="",'Prüfungen'!$M7="",'Prüfungen'!$N7=""),"",IF(AND('Prüfungen'!$N7>='Prüfungen'!$L7,'Prüfungen'!$N7<='Prüfungen'!$M7),"i.O.","n.i.O.")) | S7: Nahe oberer Grenze
A8: PR-2026-007 | B8: 46211 | C8: Laura | D8: Düsseldorf | E8: ART-1007 | F8: Rotorwelle | G8: Rundlauf | H8: mm | I8: 0.8 | J8: -0.05 | K8: 0.05 | L8: =IF(OR('Prüfungen'!$A8="",'Prüfungen'!$I8="",'Prüfungen'!$J8=""),"",'Prüfungen'!$I8+'Prüfungen'!$J8) | M8: =IF(OR('Prüfungen'!$A8="",'Prüfungen'!$I8="",'Prüfungen'!$K8=""),"",'Prüfungen'!$I8+'Prüfungen'!$K8) | N8: 0.74 | O8: =IF(OR('Prüfungen'!$A8="",'Prüfungen'!$I8="",'Prüfungen'!$N8=""),"",'Prüfungen'!$N8-'Prüfungen'!$I8) | P8: =IF(OR('Prüfungen'!$A8="",'Prüfungen'!$L8="",'Prüfungen'!$M8=""),"",'Prüfungen'!$M8-'Prüfungen'!$L8) | Q8: =IF(OR('Prüfungen'!$A8="",'Prüfungen'!$I8="",'Prüfungen'!$J8="",'Prüfungen'!$K8="",'Prüfungen'!$N8=""),"",IFERROR(ABS('Prüfungen'!$O8)/(('Prüfungen'!$M8-'Prüfungen'!$L8)/2),0)) | R8: =IF(OR('Prüfungen'!$A8="",'Prüfungen'!$L8="",'Prüfungen'!$M8="",'Prüfungen'!$N8=""),"",IF(AND('Prüfungen'!$N8>='Prüfungen'!$L8,'Prüfungen'!$N8<='Prüfungen'!$M8),"i.O.","n.i.O.")) | S8: Unterhalb Toleranzgrenze
A9: PR-2026-008 | B9: 46253 | C9: Jonas | D9: Leipzig | E9: ART-1008 | F9: Steckverbinder | G9: Kontaktbreite | H9: mm | I9: 35 | J9: -0.3 | K9: 0.3 | L9: =IF(OR('Prüfungen'!$A9="",'Prüfungen'!$I9="",'Prüfungen'!$J9=""),"",'Prüfungen'!$I9+'Prüfungen'!$J9) | M9: =IF(OR('Prüfungen'!$A9="",'Prüfungen'!$I9="",'Prüfungen'!$K9=""),"",'Prüfungen'!$I9+'Prüfungen'!$K9) | N9: 35.03 | O9: =IF(OR('Prüfungen'!$A9="",'Prüfungen'!$I9="",'Prüfungen'!$N9=""),"",'Prüfungen'!$N9-'Prüfungen'!$I9) | P9: =IF(OR('Prüfungen'!$A9="",'Prüfungen'!$L9="",'Prüfungen'!$M9=""),"",'Prüfungen'!$M9-'Prüfungen'!$L9) | Q9: =IF(OR('Prüfungen'!$A9="",'Prüfungen'!$I9="",'Prüfungen'!$J9="",'Prüfungen'!$K9="",'Prüfungen'!$N9=""),"",IFERROR(ABS('Prüfungen'!$O9)/(('Prüfungen'!$M9-'Prüfungen'!$L9)/2),0)) | R9: =IF(OR('Prüfungen'!$A9="",'Prüfungen'!$L9="",'Prüfungen'!$M9="",'Prüfungen'!$N9=""),"",IF(AND('Prüfungen'!$N9>='Prüfungen'!$L9,'Prüfungen'!$N9<='Prüfungen'!$M9),"i.O.","n.i.O.")) | S9: Serienteil freigegeben
A10: PR-2026-009 | B10: 46275 | C10: Marie | D10: Dortmund | E10: ART-1009 | F10: Ventildeckel | G10: Dichtungshöhe | H10: mm | I10: 8 | J10: -0.15 | K10: 0.15 | L10: =IF(OR('Prüfungen'!$A10="",'Prüfungen'!$I10="",'Prüfungen'!$J10=""),"",'Prüfungen'!$I10+'Prüfungen'!$J10) | M10: =IF(OR('Prüfungen'!$A10="",'Prüfungen'!$I10="",'Prüfungen'!$K10=""),"",'Prüfungen'!$I10+'Prüfungen'!$K10) | N10: 8.13 | O10: =IF(OR('Prüfungen'!$A10="",'Prüfungen'!$I10="",'Prüfungen'!$N10=""),"",'Prüfungen'!$N10-'Prüfungen'!$I10) | P10: =IF(OR('Prüfungen'!$A10="",'Prüfungen'!$L10="",'Prüfungen'!$M10=""),"",'Prüfungen'!$M10-'Prüfungen'!$L10) | Q10: =IF(OR('Prüfungen'!$A10="",'Prüfungen'!$I10="",'Prüfungen'!$J10="",'Prüfungen'!$K10="",'Prüfungen'!$N10=""),"",IFERROR(ABS('Prüfungen'!$O10)/(('Prüfungen'!$M10-'Prüfungen'!$L10)/2),0)) | R10: =IF(OR('Prüfungen'!$A10="",'Prüfungen'!$L10="",'Prüfungen'!$M10="",'Prüfungen'!$N10=""),"",IF(AND('Prüfungen'!$N10>='Prüfungen'!$L10,'Prüfungen'!$N10<='Prüfungen'!$M10),"i.O.","n.i.O.")) | S10: Messung dokumentiert
A11: PR-2026-010 | B11: 46293 | C11: Paul | D11: Bremen | E11: ART-1010 | F11: Montagewinkel | G11: Kantlänge | H11: mm | I11: 60 | J11: -0.4 | K11: 0.4 | L11: =IF(OR('Prüfungen'!$A11="",'Prüfungen'!$I11="",'Prüfungen'!$J11=""),"",'Prüfungen'!$I11+'Prüfungen'!$J11) | M11: =IF(OR('Prüfungen'!$A11="",'Prüfungen'!$I11="",'Prüfungen'!$K11=""),"",'Prüfungen'!$I11+'Prüfungen'!$K11) | N11: 59.66 | O11: =IF(OR('Prüfungen'!$A11="",'Prüfungen'!$I11="",'Prüfungen'!$N11=""),"",'Prüfungen'!$N11-'Prüfungen'!$I11) | P11: =IF(OR('Prüfungen'!$A11="",'Prüfungen'!$L11="",'Prüfungen'!$M11=""),"",'Prüfungen'!$M11-'Prüfungen'!$L11) | Q11: =IF(OR('Prüfungen'!$A11="",'Prüfungen'!$I11="",'Prüfungen'!$J11="",'Prüfungen'!$K11="",'Prüfungen'!$N11=""),"",IFERROR(ABS('Prüfungen'!$O11)/(('Prüfungen'!$M11-'Prüfungen'!$L11)/2),0)) | R11: =IF(OR('Prüfungen'!$A11="",'Prüfungen'!$L11="",'Prüfungen'!$M11="",'Prüfungen'!$N11=""),"",IF(AND('Prüfungen'!$N11>='Prüfungen'!$L11,'Prüfungen'!$N11<='Prüfungen'!$M11),"i.O.","n.i.O.")) | S11: Erstteilprüfung
L12: =IF(OR('Prüfungen'!$A12="",'Prüfungen'!$I12="",'Prüfungen'!$J12=""),"",'Prüfungen'!$I12+'Prüfungen'!$J12) | M12: =IF(OR('Prüfungen'!$A12="",'Prüfungen'!$I12="",'Prüfungen'!$K12=""),"",'Prüfungen'!$I12+'Prüfungen'!$K12) | O12: =IF(OR('Prüfungen'!$A12="",'Prüfungen'!$I12="",'Prüfungen'!$N12=""),"",'Prüfungen'!$N12-'Prüfungen'!$I12) | P12: =IF(OR('Prüfungen'!$A12="",'Prüfungen'!$L12="",'Prüfungen'!$M12=""),"",'Prüfungen'!$M12-'Prüfungen'!$L12) | Q12: =IF(OR('Prüfungen'!$A12="",'Prüfungen'!$I12="",'Prüfungen'!$J12="",'Prüfungen'!$K12="",'Prüfungen'!$N12=""),"",IFERROR(ABS('Prüfungen'!$O12)/(('Prüfungen'!$M12-'Prüfungen'!$L12)/2),0)) | R12: =IF(OR('Prüfungen'!$A12="",'Prüfungen'!$L12="",'Prüfungen'!$M12="",'Prüfungen'!$N12=""),"",IF(AND('Prüfungen'!$N12>='Prüfungen'!$L12,'Prüfungen'!$N12<='Prüfungen'!$M12),"i.O.","n.i.O."))
L13: =IF(OR('Prüfungen'!$A13="",'Prüfungen'!$I13="",'Prüfungen'!$J13=""),"",'Prüfungen'!$I13+'Prüfungen'!$J13) | M13: =IF(OR('Prüfungen'!$A13="",'Prüfungen'!$I13="",'Prüfungen'!$K13=""),"",'Prüfungen'!$I13+'Prüfungen'!$K13) | O13: =IF(OR('Prüfungen'!$A13="",'Prüfungen'!$I13="",'Prüfungen'!$N13=""),"",'Prüfungen'!$N13-'Prüfungen'!$I13) | P13: =IF(OR('Prüfungen'!$A13="",'Prüfungen'!$L13="",'Prüfungen'!$M13=""),"",'Prüfungen'!$M13-'Prüfungen'!$L13) | Q13: =IF(OR('Prüfungen'!$A13="",'Prüfungen'!$I13="",'Prüfungen'!$J13="",'Prüfungen'!$K13="",'Prüfungen'!$N13=""),"",IFERROR(ABS('Prüfungen'!$O13)/(('Prüfungen'!$M13-'Prüfungen'!$L13)/2),0)) | R13: =IF(OR('Prüfungen'!$A13="",'Prüfungen'!$L13="",'Prüfungen'!$M13="",'Prüfungen'!$N13=""),"",IF(AND('Prüfungen'!$N13>='Prüfungen'!$L13,'Prüfungen'!$N13<='Prüfungen'!$M13),"i.O.","n.i.O."))
L14: =IF(OR('Prüfungen'!$A14="",'Prüfungen'!$I14="",'Prüfungen'!$J14=""),"",'Prüfungen'!$I14+'Prüfungen'!$J14) | M14: =IF(OR('Prüfungen'!$A14="",'Prüfungen'!$I14="",'Prüfungen'!$K14=""),"",'Prüfungen'!$I14+'Prüfungen'!$K14) | O14: =IF(OR('Prüfungen'!$A14="",'Prüfungen'!$I14="",'Prüfungen'!$N14=""),"",'Prüfungen'!$N14-'Prüfungen'!$I14) | P14: =IF(OR('Prüfungen'!$A14="",'Prüfungen'!$L14="",'Prüfungen'!$M14=""),"",'Prüfungen'!$M14-'Prüfungen'!$L14) | Q14: =IF(OR('Prüfungen'!$A14="",'Prüfungen'!$I14="",'Prüfungen'!$J14="",'Prüfungen'!$K14="",'Prüfungen'!$N14=""),"",IFERROR(ABS('Prüfungen'!$O14)/(('Prüfungen'!$M14-'Prüfungen'!$L14)/2),0)) | R14: =IF(OR('Prüfungen'!$A14="",'Prüfungen'!$L14="",'Prüfungen'!$M14="",'Prüfungen'!$N14=""),"",IF(AND('Prüfungen'!$N14>='Prüfungen'!$L14,'Prüfungen'!$N14<='Prüfungen'!$M14),"i.O.","n.i.O."))
L15: =IF(OR('Prüfungen'!$A15="",'Prüfungen'!$I15="",'Prüfungen'!$J15=""),"",'Prüfungen'!$I15+'Prüfungen'!$J15) | M15: =IF(OR('Prüfungen'!$A15="",'Prüfungen'!$I15="",'Prüfungen'!$K15=""),"",'Prüfungen'!$I15+'Prüfungen'!$K15) | O15: =IF(OR('Prüfungen'!$A15="",'Prüfungen'!$I15="",'Prüfungen'!$N15=""),"",'Prüfungen'!$N15-'Prüfungen'!$I15) | P15: =IF(OR('Prüfungen'!$A15="",'Prüfungen'!$L15="",'Prüfungen'!$M15=""),"",'Prüfungen'!$M15-'Prüfungen'!$L15) | Q15: =IF(OR('Prüfungen'!$A15="",'Prüfungen'!$I15="",'Prüfungen'!$J15="",'Prüfungen'!$K15="",'Prüfungen'!$N15=""),"",IFERROR(ABS('Prüfungen'!$O15)/(('Prüfungen'!$M15-'Prüfungen'!$L15)/2),0)) | R15: =IF(OR('Prüfungen'!$A15="",'Prüfungen'!$L15="",'Prüfungen'!$M15="",'Prüfungen'!$N15=""),"",IF(AND('Prüfungen'!$N15>='Prüfungen'!$L15,'Prüfungen'!$N15<='Prüfungen'!$M15),"i.O.","n.i.O."))
L16: =IF(OR('Prüfungen'!$A16="",'Prüfungen'!$I16="",'Prüfungen'!$J16=""),"",'Prüfungen'!$I16+'Prüfungen'!$J16) | M16: =IF(OR('Prüfungen'!$A16="",'Prüfungen'!$I16="",'Prüfungen'!$K16=""),"",'Prüfungen'!$I16+'Prüfungen'!$K16) | O16: =IF(OR('Prüfungen'!$A16="",'Prüfungen'!$I16="",'Prüfungen'!$N16=""),"",'Prüfungen'!$N16-'Prüfungen'!$I16) | P16: =IF(OR('Prüfungen'!$A16="",'Prüfungen'!$L16="",'Prüfungen'!$M16=""),"",'Prüfungen'!$M16-'Prüfungen'!$L16) | Q16: =IF(OR('Prüfungen'!$A16="",'Prüfungen'!$I16="",'Prüfungen'!$J16="",'Prüfungen'!$K16="",'Prüfungen'!$N16=""),"",IFERROR(ABS('Prüfungen'!$O16)/(('Prüfungen'!$M16-'Prüfungen'!$L16)/2),0)) | R16: =IF(OR('Prüfungen'!$A16="",'Prüfungen'!$L16="",'Prüfungen'!$M16="",'Prüfungen'!$N16=""),"",IF(AND('Prüfungen'!$N16>='Prüfungen'!$L16,'Prüfungen'!$N16<='Prüfungen'!$M16),"i.O.","n.i.O."))
L17: =IF(OR('Prüfungen'!$A17="",'Prüfungen'!$I17="",'Prüfungen'!$J17=""),"",'Prüfungen'!$I17+'Prüfungen'!$J17) | M17: =IF(OR('Prüfungen'!$A17="",'Prüfungen'!$I17="",'Prüfungen'!$K17=""),"",'Prüfungen'!$I17+'Prüfungen'!$K17) | O17: =IF(OR('Prüfungen'!$A17="",'Prüfungen'!$I17="",'Prüfungen'!$N17=""),"",'Prüfungen'!$N17-'Prüfungen'!$I17) | P17: =IF(OR('Prüfungen'!$A17="",'Prüfungen'!$L17="",'Prüfungen'!$M17=""),"",'Prüfungen'!$M17-'Prüfungen'!$L17) | Q17: =IF(OR('Prüfungen'!$A17="",'Prüfungen'!$I17="",'Prüfungen'!$J17="",'Prüfungen'!$K17="",'Prüfungen'!$N17=""),"",IFERROR(ABS('Prüfungen'!$O17)/(('Prüfungen'!$M17-'Prüfungen'!$L17)/2),0)) | R17: =IF(OR('Prüfungen'!$A17="",'Prüfungen'!$L17="",'Prüfungen'!$M17="",'Prüfungen'!$N17=""),"",IF(AND('Prüfungen'!$N17>='Prüfungen'!$L17,'Prüfungen'!$N17<='Prüfungen'!$M17),"i.O.","n.i.O."))
L18: =IF(OR('Prüfungen'!$A18="",'Prüfungen'!$I18="",'Prüfungen'!$J18=""),"",'Prüfungen'!$I18+'Prüfungen'!$J18) | M18: =IF(OR('Prüfungen'!$A18="",'Prüfungen'!$I18="",'Prüfungen'!$K18=""),"",'Prüfungen'!$I18+'Prüfungen'!$K18) | O18: =IF(OR('Prüfungen'!$A18="",'Prüfungen'!$I18="",'Prüfungen'!$N18=""),"",'Prüfungen'!$N18-'Prüfungen'!$I18) | P18: =IF(OR('Prüfungen'!$A18="",'Prüfungen'!$L18="",'Prüfungen'!$M18=""),"",'Prüfungen'!$M18-'Prüfungen'!$L18) | Q18: =IF(OR('Prüfungen'!$A18="",'Prüfungen'!$I18="",'Prüfungen'!$J18="",'Prüfungen'!$K18="",'Prüfungen'!$N18=""),"",IFERROR(ABS('Prüfungen'!$O18)/(('Prüfungen'!$M18-'Prüfungen'!$L18)/2),0)) | R18: =IF(OR('Prüfungen'!$A18="",'Prüfungen'!$L18="",'Prüfungen'!$M18="",'Prüfungen'!$N18=""),"",IF(AND('Prüfungen'!$N18>='Prüfungen'!$L18,'Prüfungen'!$N18<='Prüfungen'!$M18),"i.O.","n.i.O."))
L19: =IF(OR('Prüfungen'!$A19="",'Prüfungen'!$I19="",'Prüfungen'!$J19=""),"",'Prüfungen'!$I19+'Prüfungen'!$J19) | M19: =IF(OR('Prüfungen'!$A19="",'Prüfungen'!$I19="",'Prüfungen'!$K19=""),"",'Prüfungen'!$I19+'Prüfungen'!$K19) | O19: =IF(OR('Prüfungen'!$A19="",'Prüfungen'!$I19="",'Prüfungen'!$N19=""),"",'Prüfungen'!$N19-'Prüfungen'!$I19) | P19: =IF(OR('Prüfungen'!$A19="",'Prüfungen'!$L19="",'Prüfungen'!$M19=""),"",'Prüfungen'!$M19-'Prüfungen'!$L19) | Q19: =IF(OR('Prüfungen'!$A19="",'Prüfungen'!$I19="",'Prüfungen'!$J19="",'Prüfungen'!$K19="",'Prüfungen'!$N19=""),"",IFERROR(ABS('Prüfungen'!$O19)/(('Prüfungen'!$M19-'Prüfungen'!$L19)/2),0)) | R19: =IF(OR('Prüfungen'!$A19="",'Prüfungen'!$L19="",'Prüfungen'!$M19="",'Prüfungen'!$N19=""),"",IF(AND('Prüfungen'!$N19>='Prüfungen'!$L19,'Prüfungen'!$N19<='Prüfungen'!$M19),"i.O.","n.i.O."))
L20: =IF(OR('Prüfungen'!$A20="",'Prüfungen'!$I20="",'Prüfungen'!$J20=""),"",'Prüfungen'!$I20+'Prüfungen'!$J20) | M20: =IF(OR('Prüfungen'!$A20="",'Prüfungen'!$I20="",'Prüfungen'!$K20=""),"",'Prüfungen'!$I20+'Prüfungen'!$K20) | O20: =IF(OR('Prüfungen'!$A20="",'Prüfungen'!$I20="",'Prüfungen'!$N20=""),"",'Prüfungen'!$N20-'Prüfungen'!$I20) | P20: =IF(OR('Prüfungen'!$A20="",'Prüfungen'!$L20="",'Prüfungen'!$M20=""),"",'Prüfungen'!$M20-'Prüfungen'!$L20) | Q20: =IF(OR('Prüfungen'!$A20="",'Prüfungen'!$I20="",'Prüfungen'!$J20="",'Prüfungen'!$K20="",'Prüfungen'!$N20=""),"",IFERROR(ABS('Prüfungen'!$O20)/(('Prüfungen'!$M20-'Prüfungen'!$L20)/2),0)) | R20: =IF(OR('Prüfungen'!$A20="",'Prüfungen'!$L20="",'Prüfungen'!$M20="",'Prüfungen'!$N20=""),"",IF(AND('Prüfungen'!$N20>='Prüfungen'!$L20,'Prüfungen'!$N20<='Prüfungen'!$M20),"i.O.","n.i.O."))
L21: =IF(OR('Prüfungen'!$A21="",'Prüfungen'!$I21="",'Prüfungen'!$J21=""),"",'Prüfungen'!$I21+'Prüfungen'!$J21) | M21: =IF(OR('Prüfungen'!$A21="",'Prüfungen'!$I21="",'Prüfungen'!$K21=""),"",'Prüfungen'!$I21+'Prüfungen'!$K21) | O21: =IF(OR('Prüfungen'!$A21="",'Prüfungen'!$I21="",'Prüfungen'!$N21=""),"",'Prüfungen'!$N21-'Prüfungen'!$I21) | P21: =IF(OR('Prüfungen'!$A21="",'Prüfungen'!$L21="",'Prüfungen'!$M21=""),"",'Prüfungen'!$M21-'Prüfungen'!$L21) | Q21: =IF(OR('Prüfungen'!$A21="",'Prüfungen'!$I21="",'Prüfungen'!$J21="",'Prüfungen'!$K21="",'Prüfungen'!$N21=""),"",IFERROR(ABS('Prüfungen'!$O21)/(('Prüfungen'!$M21-'Prüfungen'!$L21)/2),0)) | R21: =IF(OR('Prüfungen'!$A21="",'Prüfungen'!$L21="",'Prüfungen'!$M21="",'Prüfungen'!$N21=""),"",IF(AND('Prüfungen'!$N21>='Prüfungen'!$L21,'Prüfungen'!$N21<='Prüfungen'!$M21),"i.O.","n.i.O."))
L22: =IF(OR('Prüfungen'!$A22="",'Prüfungen'!$I22="",'Prüfungen'!$J22=""),"",'Prüfungen'!$I22+'Prüfungen'!$J22) | M22: =IF(OR('Prüfungen'!$A22="",'Prüfungen'!$I22="",'Prüfungen'!$K22=""),"",'Prüfungen'!$I22+'Prüfungen'!$K22) | O22: =IF(OR('Prüfungen'!$A22="",'Prüfungen'!$I22="",'Prüfungen'!$N22=""),"",'Prüfungen'!$N22-'Prüfungen'!$I22) | P22: =IF(OR('Prüfungen'!$A22="",'Prüfungen'!$L22="",'Prüfungen'!$M22=""),"",'Prüfungen'!$M22-'Prüfungen'!$L22) | Q22: =IF(OR('Prüfungen'!$A22="",'Prüfungen'!$I22="",'Prüfungen'!$J22="",'Prüfungen'!$K22="",'Prüfungen'!$N22=""),"",IFERROR(ABS('Prüfungen'!$O22)/(('Prüfungen'!$M22-'Prüfungen'!$L22)/2),0)) | R22: =IF(OR('Prüfungen'!$A22="",'Prüfungen'!$L22="",'Prüfungen'!$M22="",'Prüfungen'!$N22=""),"",IF(AND('Prüfungen'!$N22>='Prüfungen'!$L22,'Prüfungen'!$N22<='Prüfungen'!$M22),"i.O.","n.i.O."))
L23: =IF(OR('Prüfungen'!$A23="",'Prüfungen'!$I23="",'Prüfungen'!$J23=""),"",'Prüfungen'!$I23+'Prüfungen'!$J23) | M23: =IF(OR('Prüfungen'!$A23="",'Prüfungen'!$I23="",'Prüfungen'!$K23=""),"",'Prüfungen'!$I23+'Prüfungen'!$K23) | O23: =IF(OR('Prüfungen'!$A23="",'Prüfungen'!$I23="",'Prüfungen'!$N23=""),"",'Prüfungen'!$N23-'Prüfungen'!$I23) | P23: =IF(OR('Prüfungen'!$A23="",'Prüfungen'!$L23="",'Prüfungen'!$M23=""),"",'Prüfungen'!$M23-'Prüfungen'!$L23) | Q23: =IF(OR('Prüfungen'!$A23="",'Prüfungen'!$I23="",'Prüfungen'!$J23="",'Prüfungen'!$K23="",'Prüfungen'!$N23=""),"",IFERROR(ABS('Prüfungen'!$O23)/(('Prüfungen'!$M23-'Prüfungen'!$L23)/2),0)) | R23: =IF(OR('Prüfungen'!$A23="",'Prüfungen'!$L23="",'Prüfungen'!$M23="",'Prüfungen'!$N23=""),"",IF(AND('Prüfungen'!$N23>='Prüfungen'!$L23,'Prüfungen'!$N23<='Prüfungen'!$M23),"i.O.","n.i.O."))
... L151: =IF(OR('Prüfungen'!$A151="",'Prüfungen'!$I151="",'Prüfungen'!$J151=""),"",'Prüfungen'!$I151+'Prüfungen'!$J151) | M151: =IF(OR('Prüfungen'!$A151="",'Prüfungen'!$I151="",'Prüfungen'!$K151=""),"",'Prüfungen'!$I151+'Prüfungen'!$K151) | O151: =IF(OR('Prüfungen'!$A151="",'Prüfungen'!$I151="",'Prüfungen'!$N151=""),"",'Prüfungen'!$N151-'Prüfungen'!$I151) | P151: =IF(OR('Prüfungen'!$A151="",'Prüfungen'!$L151="",'Prüfungen'!$M151=""),"",'Prüfungen'!$M151-'Prüfungen'!$L151) | Q151: =IF(OR('Prüfungen'!$A151="",'Prüfungen'!$I151="",'Prüfungen'!$J151="",'Prüfungen'!$K151="",'Prüfungen'!$N151=""),"",IFERROR(ABS('Prüfungen'!$O151)/(('Prüfungen'!$M151-'Prüfungen'!$L151)/2),0)) | R151: =IF(OR('Prüfungen'!$A151="",'Prüfungen'!$L151="",'Prüfungen'!$M151="",'Prüfungen'!$N151=""),"",IF(AND('Prüfungen'!$N151>='Prüfungen'!$L151,'Prüfungen'!$N151<='Prüfungen'!$M151),"i.O.","n.i.O."))

Sheet Auswertung
A1: Toleranzrechner – Qualitätsauswertung
A3: Kennzahl | B3: Wert | D3: Prüfergebnis | E3: Anzahl
A4: Anzahl Prüfungen | B4: =COUNTA('Prüfungen'!$A$2:$A$151) | D4: i.O. | E4: =COUNTIF('Prüfungen'!$R$2:$R$151,"i.O.")
A5: Anzahl i.O. | B5: =COUNTIF('Prüfungen'!$R$2:$R$151,"i.O.") | D5: n.i.O. | E5: =COUNTIF('Prüfungen'!$R$2:$R$151,"n.i.O.")
A6: Anzahl n.i.O. | B6: =COUNTIF('Prüfungen'!$R$2:$R$151,"n.i.O.")
A7: i.O.-Quote | B7: =IFERROR(COUNTIF('Prüfungen'!$R$2:$R$151,"i.O.")/COUNTA('Prüfungen'!$A$2:$A$151),0)
A8: Durchschnittliche Toleranzauslastung | B8: =IFERROR(AVERAGE('Prüfungen'!$Q$2:$Q$151),0)
A9: Höchste Toleranzauslastung | B9: =IFERROR(MAX('Prüfungen'!$Q$2:$Q$151),0)
A10: Auswertung nach Standort
A11: Standort | B11: Anzahl Prüfungen | C11: i.O. | D11: n.i.O. | E11: i.O.-Quote
A12: Berlin | B12: =COUNTIF('Prüfungen'!$D$2:$D$151,'Auswertung'!$A12) | C12: =COUNTIFS('Prüfungen'!$D$2:$D$151,'Auswertung'!$A12,'Prüfungen'!$R$2:$R$151,"i.O.") | D12: =COUNTIFS('Prüfungen'!$D$2:$D$151,'Auswertung'!$A12,'Prüfungen'!$R$2:$R$151,"n.i.O.") | E12: =IFERROR('Auswertung'!$C12/'Auswertung'!$B12,0)
A13: München | B13: =COUNTIF('Prüfungen'!$D$2:$D$151,'Auswertung'!$A13) | C13: =COUNTIFS('Prüfungen'!$D$2:$D$151,'Auswertung'!$A13,'Prüfungen'!$R$2:$R$151,"i.O.") | D13: =COUNTIFS('Prüfungen'!$D$2:$D$151,'Auswertung'!$A13,'Prüfungen'!$R$2:$R$151,"n.i.O.") | E13: =IFERROR('Auswertung'!$C13/'Auswertung'!$B13,0)
A14: Hamburg | B14: =COUNTIF('Prüfungen'!$D$2:$D$151,'Auswertung'!$A14) | C14: =COUNTIFS('Prüfungen'!$D$2:$D$151,'Auswertung'!$A14,'Prüfungen'!$R$2:$R$151,"i.O.") | D14: =COUNTIFS('Prüfungen'!$D$2:$D$151,'Auswertung'!$A14,'Prüfungen'!$R$2:$R$151,"n.i.O.") | E14: =IFERROR('Auswertung'!$C14/'Auswertung'!$B14,0)
A15: Köln | B15: =COUNTIF('Prüfungen'!$D$2:$D$151,'Auswertung'!$A15) | C15: =COUNTIFS('Prüfungen'!$D$2:$D$151,'Auswertung'!$A15,'Prüfungen'!$R$2:$R$151,"i.O.") | D15: =COUNTIFS('Prüfungen'!$D$2:$D$151,'Auswertung'!$A15,'Prüfungen'!$R$2:$R$151,"n.i.O.") | E15: =IFERROR('Auswertung'!$C15/'Auswertung'!$B15,0)
A16: Frankfurt | B16: =COUNTIF('Prüfungen'!$D$2:$D$151,'Auswertung'!$A16) | C16: =COUNTIFS('Prüfungen'!$D$2:$D$151,'Auswertung'!$A16,'Prüfungen'!$R$2:$R$151,"i.O.") | D16: =COUNTIFS('Prüfungen'!$D$2:$D$151,'Auswertung'!$A16,'Prüfungen'!$R$2:$R$151,"n.i.O.") | E16: =IFERROR('Auswertung'!$C16/'Auswertung'!$B16,0)
A17: Stuttgart | B17: =COUNTIF('Prüfungen'!$D$2:$D$151,'Auswertung'!$A17) | C17: =COUNTIFS('Prüfungen'!$D$2:$D$151,'Auswertung'!$A17,'Prüfungen'!$R$2:$R$151,"i.O.") | D17: =COUNTIFS('Prüfungen'!$D$2:$D$151,'Auswertung'!$A17,'Prüfungen'!$R$2:$R$151,"n.i.O.") | E17: =IFERROR('Auswertung'!$C17/'Auswertung'!$B17,0)
A18: Düsseldorf | B18: =COUNTIF('Prüfungen'!$D$2:$D$151,'Auswertung'!$A18) | C18: =COUNTIFS('Prüfungen'!$D$2:$D$151,'Auswertung'!$A18,'Prüfungen'!$R$2:$R$151,"i.O.") | D18: =COUNTIFS('Prüfungen'!$D$2:$D$151,'Auswertung'!$A18,'Prüfungen'!$R$2:$R$151,"n.i.O.") | E18: =IFERROR('Auswertung'!$C18/'Auswertung'!$B18,0)
A19: Leipzig | B19: =COUNTIF('Prüfungen'!$D$2:$D$151,'Auswertung'!$A19) | C19: =COUNTIFS('Prüfungen'!$D$2:$D$151,'Auswertung'!$A19,'Prüfungen'!$R$2:$R$151,"i.O.") | D19: =COUNTIFS('Prüfungen'!$D$2:$D$151,'Auswertung'!$A19,'Prüfungen'!$R$2:$R$151,"n.i.O.") | E19: =IFERROR('Auswertung'!$C19/'Auswertung'!$B19,0)
A20: Dortmund | B20: =COUNTIF('Prüfungen'!$D$2:$D$151,'Auswertung'!$A20) | C20: =COUNTIFS('Prüfungen'!$D$2:$D$151,'Auswertung'!$A20,'Prüfungen'!$R$2:$R$151,"i.O.") | D20: =COUNTIFS('Prüfungen'!$D$2:$D$151,'Auswertung'!$A20,'Prüfungen'!$R$2:$R$151,"n.i.O.") | E20: =IFERROR('Auswertung'!$C20/'Auswertung'!$B20,0)
A21: Bremen | B21: =COUNTIF('Prüfungen'!$D$2:$D$151,'Auswertung'!$A21) | C21: =COUNTIFS('Prüfungen'!$D$2:$D$151,'Auswertung'!$A21,'Prüfungen'!$R$2:$R$151,"i.O.") | D21: =COUNTIFS('Prüfungen'!$D$2:$D$151,'Auswertung'!$A21,'Prüfungen'!$R$2:$R$151,"n.i.O.") | E21: =IFERROR('Auswertung'!$C21/'Auswertung'!$B21,0)
A22: Gesamtergebnis | B22: =SUM('Auswertung'!$B$12:$B$21) | C22: =SUM('Auswertung'!$C$12:$C$21) | D22: =SUM('Auswertung'!$D$12:$D$21) | E22: =IFERROR('Auswertung'!$C$22/'Auswertung'!$B$22,0)
A24: Standortprofil aus Referenztabelle
A25: Standort | B25: Zuordnung
A26: Berlin | B26: =IFERROR(VLOOKUP('Auswertung'!$A26,'Stammdaten_Anleitung'!$A$15:$B$19,2,FALSE),"Unbekannt")
A27: München | B27: =IFERROR(VLOOKUP('Auswertung'!$A27,'Stammdaten_Anleitung'!$A$15:$B$19,2,FALSE),"Unbekannt")
A28: Hamburg | B28: =IFERROR(VLOOKUP('Auswertung'!$A28,'Stammdaten_Anleitung'!$A$15:$B$19,2,FALSE),"Unbekannt")
A29: Köln | B29: =IFERROR(VLOOKUP('Auswertung'!$A29,'Stammdaten_Anleitung'!$A$15:$B$19,2,FALSE),"Unbekannt")
A30: Stuttgart | B30: =IFERROR(VLOOKUP('Auswertung'!$A30,'Stammdaten_Anleitung'!$A$15:$B$19,2,FALSE),"Unbekannt")

Sheet Stammdaten_Anleitung
A1: Stammdaten und Bedienhinweise
A3: Nr. | B3: Bedienhinweis | D3: Legende
A4: 1 | B4: Gelbe Felder im Blatt „Prüfungen“ sind manuell zu erfassen. | D4: Manuelle Eingabe
A5: 2 | B5: Untere und obere Abweichung werden relativ zum Nennwert angegeben. | D5: Prüfergebnis i.O.
A6: 3 | B6: Ein Messwert ist „i.O.“, wenn er innerhalb beider Toleranzgrenzen liegt. | D6: Prüfergebnis n.i.O.
A7: 4 | B7: Prozentwerte werden mit einer Nachkommastelle dargestellt.
A8: 5 | B8: Datumsformat: TT.MM.JJJJ.
A9: 6 | B9: Währungsformat ist für dieses Thema nicht erforderlich; bei Kosten verwenden Sie 1.234,56 €.
A10: 7 | B10: Die Arbeitsmappe ersetzt keine kalibrierte Prüfmittel- oder QS-Dokumentation.
A14: Standort | B14: Referenzwert
A15: Berlin | B15: Werk Nord
A16: München | B16: Werk Süd
A17: Hamburg | B17: Wareneingang
A18: Köln | B18: Montage
A19: Stuttgart | B19: Qualitätssicherung
