Workbook

Sheet Reisekosten
A1: Verpflegungsmehraufwand – Reisekostenerfassung 2026
A2: Hellgelbe Felder sind Eingaben. Die Berechnungen verwenden die gepflegte Pauschalentabelle.
A4: Beleg-Nr. | B4: Mitarbeitende Person | C4: Abteilung | D4: Reisedatum | E4: Rückkehrdatum | F4: Dienstreiseort | G4: Land | H4: Abwesenheitsart | I4: Abfahrt | J4: Rückkehr | K4: Abwesenheit in Stunden | L4: Übernachtung erforderlich? | M4: Frühstück gestellt? | N4: Mittagessen gestellt? | O4: Abendessen gestellt? | P4: Tagessatz | Q4: Frühstücksabzug | R4: Mittagessenabzug | S4: Abendessenabzug | T4: Erstattungsfähiger Verpflegungsmehraufwand | U4: Status | V4: Bemerkung
A5: RK-2026-001 | B5: Anna Müller | C5: Vertrieb | D5: 46034 | E5: 46035 | F5: München | G5: Deutschland | H5: Anreisetag | I5: 0.30208333 | J5: 0.82291667 | K5: =IF($A5="","",IFERROR(MAX(0,(($E5-$D5)+($J5-$I5))*24),0)) | L5: Ja | M5: Nein | N5: Nein | O5: Ja | P5: =IF($A5="","",IFERROR(VLOOKUP($G5&"|"&$H5,'Pauschalen'!$J$5:$N$104,2,FALSE),0)) | Q5: =IF($A5="","",IF($M5="Ja",IFERROR($P5*VLOOKUP($G5&"|"&$H5,'Pauschalen'!$J$5:$N$104,3,FALSE),0),0)) | R5: =IF($A5="","",IF($N5="Ja",IFERROR($P5*VLOOKUP($G5&"|"&$H5,'Pauschalen'!$J$5:$N$104,4,FALSE),0),0)) | S5: =IF($A5="","",IF($O5="Ja",IFERROR($P5*VLOOKUP($G5&"|"&$H5,'Pauschalen'!$J$5:$N$104,5,FALSE),0),0)) | T5: =IF($A5="","",MAX(0,$P5-$Q5-$R5-$S5)) | U5: =IF($A5="","",IF($T5>0,"Erstattungsfähig","Keine Erstattung")) | V5: Anreise zum Kundentermin
A6: RK-2026-002 | B6: Lukas Schneider | C6: IT | D6: 46043 | E6: 46043 | F6: Hamburg | G6: Deutschland | H6: Ganztägig | I6: 0.27083333 | J6: 0.91666667 | K6: =IF($A6="","",IFERROR(MAX(0,(($E6-$D6)+($J6-$I6))*24),0)) | L6: Nein | M6: Nein | N6: Ja | O6: Nein | P6: =IF($A6="","",IFERROR(VLOOKUP($G6&"|"&$H6,'Pauschalen'!$J$5:$N$104,2,FALSE),0)) | Q6: =IF($A6="","",IF($M6="Ja",IFERROR($P6*VLOOKUP($G6&"|"&$H6,'Pauschalen'!$J$5:$N$104,3,FALSE),0),0)) | R6: =IF($A6="","",IF($N6="Ja",IFERROR($P6*VLOOKUP($G6&"|"&$H6,'Pauschalen'!$J$5:$N$104,4,FALSE),0),0)) | S6: =IF($A6="","",IF($O6="Ja",IFERROR($P6*VLOOKUP($G6&"|"&$H6,'Pauschalen'!$J$5:$N$104,5,FALSE),0),0)) | T6: =IF($A6="","",MAX(0,$P6-$Q6-$R6-$S6)) | U6: =IF($A6="","",IF($T6>0,"Erstattungsfähig","Keine Erstattung")) | V6: Projekttermin vor Ort
A7: RK-2026-003 | B7: Julia Weber | C7: Finanzen | D7: 46057 | E7: 46057 | F7: Frankfurt am Main | G7: Deutschland | H7: Unter 8 Stunden | I7: 0.375 | J7: 0.625 | K7: =IF($A7="","",IFERROR(MAX(0,(($E7-$D7)+($J7-$I7))*24),0)) | L7: Nein | M7: Nein | N7: Nein | O7: Nein | P7: =IF($A7="","",IFERROR(VLOOKUP($G7&"|"&$H7,'Pauschalen'!$J$5:$N$104,2,FALSE),0)) | Q7: =IF($A7="","",IF($M7="Ja",IFERROR($P7*VLOOKUP($G7&"|"&$H7,'Pauschalen'!$J$5:$N$104,3,FALSE),0),0)) | R7: =IF($A7="","",IF($N7="Ja",IFERROR($P7*VLOOKUP($G7&"|"&$H7,'Pauschalen'!$J$5:$N$104,4,FALSE),0),0)) | S7: =IF($A7="","",IF($O7="Ja",IFERROR($P7*VLOOKUP($G7&"|"&$H7,'Pauschalen'!$J$5:$N$104,5,FALSE),0),0)) | T7: =IF($A7="","",MAX(0,$P7-$Q7-$R7-$S7)) | U7: =IF($A7="","",IF($T7>0,"Erstattungsfähig","Keine Erstattung")) | V7: Kurztermin bei Bank
A8: RK-2026-004 | B8: Maximilian Fischer | C8: Einkauf | D8: 46069 | E8: 46070 | F8: Köln | G8: Deutschland | H8: Abreisetag | I8: 0.33333333 | J8: 0.72916667 | K8: =IF($A8="","",IFERROR(MAX(0,(($E8-$D8)+($J8-$I8))*24),0)) | L8: Ja | M8: Ja | N8: Nein | O8: Nein | P8: =IF($A8="","",IFERROR(VLOOKUP($G8&"|"&$H8,'Pauschalen'!$J$5:$N$104,2,FALSE),0)) | Q8: =IF($A8="","",IF($M8="Ja",IFERROR($P8*VLOOKUP($G8&"|"&$H8,'Pauschalen'!$J$5:$N$104,3,FALSE),0),0)) | R8: =IF($A8="","",IF($N8="Ja",IFERROR($P8*VLOOKUP($G8&"|"&$H8,'Pauschalen'!$J$5:$N$104,4,FALSE),0),0)) | S8: =IF($A8="","",IF($O8="Ja",IFERROR($P8*VLOOKUP($G8&"|"&$H8,'Pauschalen'!$J$5:$N$104,5,FALSE),0),0)) | T8: =IF($A8="","",MAX(0,$P8-$Q8-$R8-$S8)) | U8: =IF($A8="","",IF($T8>0,"Erstattungsfähig","Keine Erstattung")) | V8: Lieferantengespräch
A9: RK-2026-005 | B9: Sophie Wagner | C9: Personal | D9: 46084 | E9: 46084 | F9: Stuttgart | G9: Deutschland | H9: Ganztägig | I9: 0.22916667 | J9: 0.88541667 | K9: =IF($A9="","",IFERROR(MAX(0,(($E9-$D9)+($J9-$I9))*24),0)) | L9: Nein | M9: Nein | N9: Nein | O9: Nein | P9: =IF($A9="","",IFERROR(VLOOKUP($G9&"|"&$H9,'Pauschalen'!$J$5:$N$104,2,FALSE),0)) | Q9: =IF($A9="","",IF($M9="Ja",IFERROR($P9*VLOOKUP($G9&"|"&$H9,'Pauschalen'!$J$5:$N$104,3,FALSE),0),0)) | R9: =IF($A9="","",IF($N9="Ja",IFERROR($P9*VLOOKUP($G9&"|"&$H9,'Pauschalen'!$J$5:$N$104,4,FALSE),0),0)) | S9: =IF($A9="","",IF($O9="Ja",IFERROR($P9*VLOOKUP($G9&"|"&$H9,'Pauschalen'!$J$5:$N$104,5,FALSE),0),0)) | T9: =IF($A9="","",MAX(0,$P9-$Q9-$R9-$S9)) | U9: =IF($A9="","",IF($T9>0,"Erstattungsfähig","Keine Erstattung")) | V9: Recruiting-Messe
A10: RK-2026-006 | B10: Felix Becker | C10: Technik | D10: 46099 | E10: 46099 | F10: Düsseldorf | G10: Deutschland | H10: Ganztägig | I10: 0.29166667 | J10: 0.83333333 | K10: =IF($A10="","",IFERROR(MAX(0,(($E10-$D10)+($J10-$I10))*24),0)) | L10: Nein | M10: Ja | N10: Nein | O10: Nein | P10: =IF($A10="","",IFERROR(VLOOKUP($G10&"|"&$H10,'Pauschalen'!$J$5:$N$104,2,FALSE),0)) | Q10: =IF($A10="","",IF($M10="Ja",IFERROR($P10*VLOOKUP($G10&"|"&$H10,'Pauschalen'!$J$5:$N$104,3,FALSE),0),0)) | R10: =IF($A10="","",IF($N10="Ja",IFERROR($P10*VLOOKUP($G10&"|"&$H10,'Pauschalen'!$J$5:$N$104,4,FALSE),0),0)) | S10: =IF($A10="","",IF($O10="Ja",IFERROR($P10*VLOOKUP($G10&"|"&$H10,'Pauschalen'!$J$5:$N$104,5,FALSE),0),0)) | T10: =IF($A10="","",MAX(0,$P10-$Q10-$R10-$S10)) | U10: =IF($A10="","",IF($T10>0,"Erstattungsfähig","Keine Erstattung")) | V10: Anlagenabnahme
A11: RK-2026-007 | B11: Laura Hoffmann | C11: Marketing | D11: 46121 | E11: 46121 | F11: Leipzig | G11: Deutschland | H11: Ganztägig | I11: 0.25 | J11: 0.875 | K11: =IF($A11="","",IFERROR(MAX(0,(($E11-$D11)+($J11-$I11))*24),0)) | L11: Nein | M11: Nein | N11: Ja | O11: Ja | P11: =IF($A11="","",IFERROR(VLOOKUP($G11&"|"&$H11,'Pauschalen'!$J$5:$N$104,2,FALSE),0)) | Q11: =IF($A11="","",IF($M11="Ja",IFERROR($P11*VLOOKUP($G11&"|"&$H11,'Pauschalen'!$J$5:$N$104,3,FALSE),0),0)) | R11: =IF($A11="","",IF($N11="Ja",IFERROR($P11*VLOOKUP($G11&"|"&$H11,'Pauschalen'!$J$5:$N$104,4,FALSE),0),0)) | S11: =IF($A11="","",IF($O11="Ja",IFERROR($P11*VLOOKUP($G11&"|"&$H11,'Pauschalen'!$J$5:$N$104,5,FALSE),0),0)) | T11: =IF($A11="","",MAX(0,$P11-$Q11-$R11-$S11)) | U11: =IF($A11="","",IF($T11>0,"Erstattungsfähig","Keine Erstattung")) | V11: Kundenveranstaltung
A12: RK-2026-008 | B12: Jonas Richter | C12: Vertrieb | D12: 46134 | E12: 46134 | F12: Dortmund | G12: Deutschland | H12: Ganztägig | I12: 0.3125 | J12: 0.75 | K12: =IF($A12="","",IFERROR(MAX(0,(($E12-$D12)+($J12-$I12))*24),0)) | L12: Nein | M12: Nein | N12: Nein | O12: Nein | P12: =IF($A12="","",IFERROR(VLOOKUP($G12&"|"&$H12,'Pauschalen'!$J$5:$N$104,2,FALSE),0)) | Q12: =IF($A12="","",IF($M12="Ja",IFERROR($P12*VLOOKUP($G12&"|"&$H12,'Pauschalen'!$J$5:$N$104,3,FALSE),0),0)) | R12: =IF($A12="","",IF($N12="Ja",IFERROR($P12*VLOOKUP($G12&"|"&$H12,'Pauschalen'!$J$5:$N$104,4,FALSE),0),0)) | S12: =IF($A12="","",IF($O12="Ja",IFERROR($P12*VLOOKUP($G12&"|"&$H12,'Pauschalen'!$J$5:$N$104,5,FALSE),0),0)) | T12: =IF($A12="","",MAX(0,$P12-$Q12-$R12-$S12)) | U12: =IF($A12="","",IF($T12>0,"Erstattungsfähig","Keine Erstattung")) | V12: Verhandlungstermin
A13: RK-2026-009 | B13: Marie Klein | C13: Recht | D13: 46153 | E13: 46154 | F13: Bremen | G13: Deutschland | H13: Anreisetag | I13: 0.375 | J13: 0.64583333 | K13: =IF($A13="","",IFERROR(MAX(0,(($E13-$D13)+($J13-$I13))*24),0)) | L13: Ja | M13: Nein | N13: Ja | O13: Nein | P13: =IF($A13="","",IFERROR(VLOOKUP($G13&"|"&$H13,'Pauschalen'!$J$5:$N$104,2,FALSE),0)) | Q13: =IF($A13="","",IF($M13="Ja",IFERROR($P13*VLOOKUP($G13&"|"&$H13,'Pauschalen'!$J$5:$N$104,3,FALSE),0),0)) | R13: =IF($A13="","",IF($N13="Ja",IFERROR($P13*VLOOKUP($G13&"|"&$H13,'Pauschalen'!$J$5:$N$104,4,FALSE),0),0)) | S13: =IF($A13="","",IF($O13="Ja",IFERROR($P13*VLOOKUP($G13&"|"&$H13,'Pauschalen'!$J$5:$N$104,5,FALSE),0),0)) | T13: =IF($A13="","",MAX(0,$P13-$Q13-$R13-$S13)) | U13: =IF($A13="","",IF($T13>0,"Erstattungsfähig","Keine Erstattung")) | V13: Gerichtstermin
A14: RK-2026-010 | B14: Paul Neumann | C14: Controlling | D14: 46170 | E14: 46171 | F14: Nürnberg | G14: Deutschland | H14: Abreisetag | I14: 0.29166667 | J14: 0.75 | K14: =IF($A14="","",IFERROR(MAX(0,(($E14-$D14)+($J14-$I14))*24),0)) | L14: Ja | M14: Ja | N14: Ja | O14: Nein | P14: =IF($A14="","",IFERROR(VLOOKUP($G14&"|"&$H14,'Pauschalen'!$J$5:$N$104,2,FALSE),0)) | Q14: =IF($A14="","",IF($M14="Ja",IFERROR($P14*VLOOKUP($G14&"|"&$H14,'Pauschalen'!$J$5:$N$104,3,FALSE),0),0)) | R14: =IF($A14="","",IF($N14="Ja",IFERROR($P14*VLOOKUP($G14&"|"&$H14,'Pauschalen'!$J$5:$N$104,4,FALSE),0),0)) | S14: =IF($A14="","",IF($O14="Ja",IFERROR($P14*VLOOKUP($G14&"|"&$H14,'Pauschalen'!$J$5:$N$104,5,FALSE),0),0)) | T14: =IF($A14="","",MAX(0,$P14-$Q14-$R14-$S14)) | U14: =IF($A14="","",IF($T14>0,"Erstattungsfähig","Keine Erstattung")) | V14: Standortbesprechung
K15: =IF($A15="","",IFERROR(MAX(0,(($E15-$D15)+($J15-$I15))*24),0)) | P15: =IF($A15="","",IFERROR(VLOOKUP($G15&"|"&$H15,'Pauschalen'!$J$5:$N$104,2,FALSE),0)) | Q15: =IF($A15="","",IF($M15="Ja",IFERROR($P15*VLOOKUP($G15&"|"&$H15,'Pauschalen'!$J$5:$N$104,3,FALSE),0),0)) | R15: =IF($A15="","",IF($N15="Ja",IFERROR($P15*VLOOKUP($G15&"|"&$H15,'Pauschalen'!$J$5:$N$104,4,FALSE),0),0)) | S15: =IF($A15="","",IF($O15="Ja",IFERROR($P15*VLOOKUP($G15&"|"&$H15,'Pauschalen'!$J$5:$N$104,5,FALSE),0),0)) | T15: =IF($A15="","",MAX(0,$P15-$Q15-$R15-$S15)) | U15: =IF($A15="","",IF($T15>0,"Erstattungsfähig","Keine Erstattung"))
K16: =IF($A16="","",IFERROR(MAX(0,(($E16-$D16)+($J16-$I16))*24),0)) | P16: =IF($A16="","",IFERROR(VLOOKUP($G16&"|"&$H16,'Pauschalen'!$J$5:$N$104,2,FALSE),0)) | Q16: =IF($A16="","",IF($M16="Ja",IFERROR($P16*VLOOKUP($G16&"|"&$H16,'Pauschalen'!$J$5:$N$104,3,FALSE),0),0)) | R16: =IF($A16="","",IF($N16="Ja",IFERROR($P16*VLOOKUP($G16&"|"&$H16,'Pauschalen'!$J$5:$N$104,4,FALSE),0),0)) | S16: =IF($A16="","",IF($O16="Ja",IFERROR($P16*VLOOKUP($G16&"|"&$H16,'Pauschalen'!$J$5:$N$104,5,FALSE),0),0)) | T16: =IF($A16="","",MAX(0,$P16-$Q16-$R16-$S16)) | U16: =IF($A16="","",IF($T16>0,"Erstattungsfähig","Keine Erstattung"))
K17: =IF($A17="","",IFERROR(MAX(0,(($E17-$D17)+($J17-$I17))*24),0)) | P17: =IF($A17="","",IFERROR(VLOOKUP($G17&"|"&$H17,'Pauschalen'!$J$5:$N$104,2,FALSE),0)) | Q17: =IF($A17="","",IF($M17="Ja",IFERROR($P17*VLOOKUP($G17&"|"&$H17,'Pauschalen'!$J$5:$N$104,3,FALSE),0),0)) | R17: =IF($A17="","",IF($N17="Ja",IFERROR($P17*VLOOKUP($G17&"|"&$H17,'Pauschalen'!$J$5:$N$104,4,FALSE),0),0)) | S17: =IF($A17="","",IF($O17="Ja",IFERROR($P17*VLOOKUP($G17&"|"&$H17,'Pauschalen'!$J$5:$N$104,5,FALSE),0),0)) | T17: =IF($A17="","",MAX(0,$P17-$Q17-$R17-$S17)) | U17: =IF($A17="","",IF($T17>0,"Erstattungsfähig","Keine Erstattung"))
K18: =IF($A18="","",IFERROR(MAX(0,(($E18-$D18)+($J18-$I18))*24),0)) | P18: =IF($A18="","",IFERROR(VLOOKUP($G18&"|"&$H18,'Pauschalen'!$J$5:$N$104,2,FALSE),0)) | Q18: =IF($A18="","",IF($M18="Ja",IFERROR($P18*VLOOKUP($G18&"|"&$H18,'Pauschalen'!$J$5:$N$104,3,FALSE),0),0)) | R18: =IF($A18="","",IF($N18="Ja",IFERROR($P18*VLOOKUP($G18&"|"&$H18,'Pauschalen'!$J$5:$N$104,4,FALSE),0),0)) | S18: =IF($A18="","",IF($O18="Ja",IFERROR($P18*VLOOKUP($G18&"|"&$H18,'Pauschalen'!$J$5:$N$104,5,FALSE),0),0)) | T18: =IF($A18="","",MAX(0,$P18-$Q18-$R18-$S18)) | U18: =IF($A18="","",IF($T18>0,"Erstattungsfähig","Keine Erstattung"))
K19: =IF($A19="","",IFERROR(MAX(0,(($E19-$D19)+($J19-$I19))*24),0)) | P19: =IF($A19="","",IFERROR(VLOOKUP($G19&"|"&$H19,'Pauschalen'!$J$5:$N$104,2,FALSE),0)) | Q19: =IF($A19="","",IF($M19="Ja",IFERROR($P19*VLOOKUP($G19&"|"&$H19,'Pauschalen'!$J$5:$N$104,3,FALSE),0),0)) | R19: =IF($A19="","",IF($N19="Ja",IFERROR($P19*VLOOKUP($G19&"|"&$H19,'Pauschalen'!$J$5:$N$104,4,FALSE),0),0)) | S19: =IF($A19="","",IF($O19="Ja",IFERROR($P19*VLOOKUP($G19&"|"&$H19,'Pauschalen'!$J$5:$N$104,5,FALSE),0),0)) | T19: =IF($A19="","",MAX(0,$P19-$Q19-$R19-$S19)) | U19: =IF($A19="","",IF($T19>0,"Erstattungsfähig","Keine Erstattung"))
K20: =IF($A20="","",IFERROR(MAX(0,(($E20-$D20)+($J20-$I20))*24),0)) | P20: =IF($A20="","",IFERROR(VLOOKUP($G20&"|"&$H20,'Pauschalen'!$J$5:$N$104,2,FALSE),0)) | Q20: =IF($A20="","",IF($M20="Ja",IFERROR($P20*VLOOKUP($G20&"|"&$H20,'Pauschalen'!$J$5:$N$104,3,FALSE),0),0)) | R20: =IF($A20="","",IF($N20="Ja",IFERROR($P20*VLOOKUP($G20&"|"&$H20,'Pauschalen'!$J$5:$N$104,4,FALSE),0),0)) | S20: =IF($A20="","",IF($O20="Ja",IFERROR($P20*VLOOKUP($G20&"|"&$H20,'Pauschalen'!$J$5:$N$104,5,FALSE),0),0)) | T20: =IF($A20="","",MAX(0,$P20-$Q20-$R20-$S20)) | U20: =IF($A20="","",IF($T20>0,"Erstattungsfähig","Keine Erstattung"))
K21: =IF($A21="","",IFERROR(MAX(0,(($E21-$D21)+($J21-$I21))*24),0)) | P21: =IF($A21="","",IFERROR(VLOOKUP($G21&"|"&$H21,'Pauschalen'!$J$5:$N$104,2,FALSE),0)) | Q21: =IF($A21="","",IF($M21="Ja",IFERROR($P21*VLOOKUP($G21&"|"&$H21,'Pauschalen'!$J$5:$N$104,3,FALSE),0),0)) | R21: =IF($A21="","",IF($N21="Ja",IFERROR($P21*VLOOKUP($G21&"|"&$H21,'Pauschalen'!$J$5:$N$104,4,FALSE),0),0)) | S21: =IF($A21="","",IF($O21="Ja",IFERROR($P21*VLOOKUP($G21&"|"&$H21,'Pauschalen'!$J$5:$N$104,5,FALSE),0),0)) | T21: =IF($A21="","",MAX(0,$P21-$Q21-$R21-$S21)) | U21: =IF($A21="","",IF($T21>0,"Erstattungsfähig","Keine Erstattung"))
K22: =IF($A22="","",IFERROR(MAX(0,(($E22-$D22)+($J22-$I22))*24),0)) | P22: =IF($A22="","",IFERROR(VLOOKUP($G22&"|"&$H22,'Pauschalen'!$J$5:$N$104,2,FALSE),0)) | Q22: =IF($A22="","",IF($M22="Ja",IFERROR($P22*VLOOKUP($G22&"|"&$H22,'Pauschalen'!$J$5:$N$104,3,FALSE),0),0)) | R22: =IF($A22="","",IF($N22="Ja",IFERROR($P22*VLOOKUP($G22&"|"&$H22,'Pauschalen'!$J$5:$N$104,4,FALSE),0),0)) | S22: =IF($A22="","",IF($O22="Ja",IFERROR($P22*VLOOKUP($G22&"|"&$H22,'Pauschalen'!$J$5:$N$104,5,FALSE),0),0)) | T22: =IF($A22="","",MAX(0,$P22-$Q22-$R22-$S22)) | U22: =IF($A22="","",IF($T22>0,"Erstattungsfähig","Keine Erstattung"))
K23: =IF($A23="","",IFERROR(MAX(0,(($E23-$D23)+($J23-$I23))*24),0)) | P23: =IF($A23="","",IFERROR(VLOOKUP($G23&"|"&$H23,'Pauschalen'!$J$5:$N$104,2,FALSE),0)) | Q23: =IF($A23="","",IF($M23="Ja",IFERROR($P23*VLOOKUP($G23&"|"&$H23,'Pauschalen'!$J$5:$N$104,3,FALSE),0),0)) | R23: =IF($A23="","",IF($N23="Ja",IFERROR($P23*VLOOKUP($G23&"|"&$H23,'Pauschalen'!$J$5:$N$104,4,FALSE),0),0)) | S23: =IF($A23="","",IF($O23="Ja",IFERROR($P23*VLOOKUP($G23&"|"&$H23,'Pauschalen'!$J$5:$N$104,5,FALSE),0),0)) | T23: =IF($A23="","",MAX(0,$P23-$Q23-$R23-$S23)) | U23: =IF($A23="","",IF($T23>0,"Erstattungsfähig","Keine Erstattung"))
K24: =IF($A24="","",IFERROR(MAX(0,(($E24-$D24)+($J24-$I24))*24),0)) | P24: =IF($A24="","",IFERROR(VLOOKUP($G24&"|"&$H24,'Pauschalen'!$J$5:$N$104,2,FALSE),0)) | Q24: =IF($A24="","",IF($M24="Ja",IFERROR($P24*VLOOKUP($G24&"|"&$H24,'Pauschalen'!$J$5:$N$104,3,FALSE),0),0)) | R24: =IF($A24="","",IF($N24="Ja",IFERROR($P24*VLOOKUP($G24&"|"&$H24,'Pauschalen'!$J$5:$N$104,4,FALSE),0),0)) | S24: =IF($A24="","",IF($O24="Ja",IFERROR($P24*VLOOKUP($G24&"|"&$H24,'Pauschalen'!$J$5:$N$104,5,FALSE),0),0)) | T24: =IF($A24="","",MAX(0,$P24-$Q24-$R24-$S24)) | U24: =IF($A24="","",IF($T24>0,"Erstattungsfähig","Keine Erstattung"))
K25: =IF($A25="","",IFERROR(MAX(0,(($E25-$D25)+($J25-$I25))*24),0)) | P25: =IF($A25="","",IFERROR(VLOOKUP($G25&"|"&$H25,'Pauschalen'!$J$5:$N$104,2,FALSE),0)) | Q25: =IF($A25="","",IF($M25="Ja",IFERROR($P25*VLOOKUP($G25&"|"&$H25,'Pauschalen'!$J$5:$N$104,3,FALSE),0),0)) | R25: =IF($A25="","",IF($N25="Ja",IFERROR($P25*VLOOKUP($G25&"|"&$H25,'Pauschalen'!$J$5:$N$104,4,FALSE),0),0)) | S25: =IF($A25="","",IF($O25="Ja",IFERROR($P25*VLOOKUP($G25&"|"&$H25,'Pauschalen'!$J$5:$N$104,5,FALSE),0),0)) | T25: =IF($A25="","",MAX(0,$P25-$Q25-$R25-$S25)) | U25: =IF($A25="","",IF($T25>0,"Erstattungsfähig","Keine Erstattung"))
K26: =IF($A26="","",IFERROR(MAX(0,(($E26-$D26)+($J26-$I26))*24),0)) | P26: =IF($A26="","",IFERROR(VLOOKUP($G26&"|"&$H26,'Pauschalen'!$J$5:$N$104,2,FALSE),0)) | Q26: =IF($A26="","",IF($M26="Ja",IFERROR($P26*VLOOKUP($G26&"|"&$H26,'Pauschalen'!$J$5:$N$104,3,FALSE),0),0)) | R26: =IF($A26="","",IF($N26="Ja",IFERROR($P26*VLOOKUP($G26&"|"&$H26,'Pauschalen'!$J$5:$N$104,4,FALSE),0),0)) | S26: =IF($A26="","",IF($O26="Ja",IFERROR($P26*VLOOKUP($G26&"|"&$H26,'Pauschalen'!$J$5:$N$104,5,FALSE),0),0)) | T26: =IF($A26="","",MAX(0,$P26-$Q26-$R26-$S26)) | U26: =IF($A26="","",IF($T26>0,"Erstattungsfähig","Keine Erstattung"))
... K104: =IF($A104="","",IFERROR(MAX(0,(($E104-$D104)+($J104-$I104))*24),0)) | P104: =IF($A104="","",IFERROR(VLOOKUP($G104&"|"&$H104,'Pauschalen'!$J$5:$N$104,2,FALSE),0)) | Q104: =IF($A104="","",IF($M104="Ja",IFERROR($P104*VLOOKUP($G104&"|"&$H104,'Pauschalen'!$J$5:$N$104,3,FALSE),0),0)) | R104: =IF($A104="","",IF($N104="Ja",IFERROR($P104*VLOOKUP($G104&"|"&$H104,'Pauschalen'!$J$5:$N$104,4,FALSE),0),0)) | S104: =IF($A104="","",IF($O104="Ja",IFERROR($P104*VLOOKUP($G104&"|"&$H104,'Pauschalen'!$J$5:$N$104,5,FALSE),0),0)) | T104: =IF($A104="","",MAX(0,$P104-$Q104-$R104-$S104)) | U104: =IF($A104="","",IF($T104>0,"Erstattungsfähig","Keine Erstattung"))
S106: Gesamtsumme: | T106: =SUM($T$5:$T$104) | U106: =COUNTIF($U$5:$U$104,"Erstattungsfähig")

Sheet Pauschalen
A1: Pauschalentabelle für Verpflegungsmehraufwand
A2: Die deutschen Standardwerte für 2026 sind hinterlegt. Auslandspauschalen bitte anhand der aktuellen fachlichen Grundlage ergänzen.
A4: Land | B4: Abwesenheitsart | C4: Beschreibung | D4: Pauschale in € | E4: Frühstücksabzug % | F4: Mittagessenabzug % | G4: Abendessenabzug % | H4: Gültig ab | I4: Quelle/Bemerkung | J4: Suchschlüssel | K4: Pauschale intern | L4: Frühstück intern | M4: Mittagessen intern | N4: Abendessen intern
A5: Deutschland | B5: Ganztägig | C5: Abwesenheit von 24 Stunden | D5: 28 | E5: 0.2 | F5: 0.4 | G5: 0.4 | H5: 46023 | I5: Standardwert 2026 gemäß Vorgabe; Aktualisierung prüfen | J5: =IF(OR($A5="",$B5=""),"",$A5&"|"&$B5) | K5: =IF($D5="","",$D5) | L5: =IF($E5="","",$E5) | M5: =IF($F5="","",$F5) | N5: =IF($G5="","",$G5)
A6: Deutschland | B6: Anreisetag | C6: Anreisetag mit Übernachtung | D6: 14 | E6: 0.2 | F6: 0.4 | G6: 0.4 | H6: 46023 | I6: Standardwert 2026 gemäß Vorgabe; Aktualisierung prüfen | J6: =IF(OR($A6="",$B6=""),"",$A6&"|"&$B6) | K6: =IF($D6="","",$D6) | L6: =IF($E6="","",$E6) | M6: =IF($F6="","",$F6) | N6: =IF($G6="","",$G6)
A7: Deutschland | B7: Abreisetag | C7: Abreisetag mit Übernachtung | D7: 14 | E7: 0.2 | F7: 0.4 | G7: 0.4 | H7: 46023 | I7: Standardwert 2026 gemäß Vorgabe; Aktualisierung prüfen | J7: =IF(OR($A7="",$B7=""),"",$A7&"|"&$B7) | K7: =IF($D7="","",$D7) | L7: =IF($E7="","",$E7) | M7: =IF($F7="","",$F7) | N7: =IF($G7="","",$G7)
A8: Deutschland | B8: Unter 8 Stunden | C8: Abwesenheit unter 8 Stunden | D8: 0 | E8: 0.2 | F8: 0.4 | G8: 0.4 | H8: 46023 | I8: Standardwert 2026 gemäß Vorgabe; Aktualisierung prüfen | J8: =IF(OR($A8="",$B8=""),"",$A8&"|"&$B8) | K8: =IF($D8="","",$D8) | L8: =IF($E8="","",$E8) | M8: =IF($F8="","",$F8) | N8: =IF($G8="","",$G8)
J9: =IF(OR($A9="",$B9=""),"",$A9&"|"&$B9) | K9: =IF($D9="","",$D9) | L9: =IF($E9="","",$E9) | M9: =IF($F9="","",$F9) | N9: =IF($G9="","",$G9)
J10: =IF(OR($A10="",$B10=""),"",$A10&"|"&$B10) | K10: =IF($D10="","",$D10) | L10: =IF($E10="","",$E10) | M10: =IF($F10="","",$F10) | N10: =IF($G10="","",$G10)
J11: =IF(OR($A11="",$B11=""),"",$A11&"|"&$B11) | K11: =IF($D11="","",$D11) | L11: =IF($E11="","",$E11) | M11: =IF($F11="","",$F11) | N11: =IF($G11="","",$G11)
J12: =IF(OR($A12="",$B12=""),"",$A12&"|"&$B12) | K12: =IF($D12="","",$D12) | L12: =IF($E12="","",$E12) | M12: =IF($F12="","",$F12) | N12: =IF($G12="","",$G12)
J13: =IF(OR($A13="",$B13=""),"",$A13&"|"&$B13) | K13: =IF($D13="","",$D13) | L13: =IF($E13="","",$E13) | M13: =IF($F13="","",$F13) | N13: =IF($G13="","",$G13)
J14: =IF(OR($A14="",$B14=""),"",$A14&"|"&$B14) | K14: =IF($D14="","",$D14) | L14: =IF($E14="","",$E14) | M14: =IF($F14="","",$F14) | N14: =IF($G14="","",$G14)
J15: =IF(OR($A15="",$B15=""),"",$A15&"|"&$B15) | K15: =IF($D15="","",$D15) | L15: =IF($E15="","",$E15) | M15: =IF($F15="","",$F15) | N15: =IF($G15="","",$G15)
J16: =IF(OR($A16="",$B16=""),"",$A16&"|"&$B16) | K16: =IF($D16="","",$D16) | L16: =IF($E16="","",$E16) | M16: =IF($F16="","",$F16) | N16: =IF($G16="","",$G16)
J17: =IF(OR($A17="",$B17=""),"",$A17&"|"&$B17) | K17: =IF($D17="","",$D17) | L17: =IF($E17="","",$E17) | M17: =IF($F17="","",$F17) | N17: =IF($G17="","",$G17)
J18: =IF(OR($A18="",$B18=""),"",$A18&"|"&$B18) | K18: =IF($D18="","",$D18) | L18: =IF($E18="","",$E18) | M18: =IF($F18="","",$F18) | N18: =IF($G18="","",$G18)
J19: =IF(OR($A19="",$B19=""),"",$A19&"|"&$B19) | K19: =IF($D19="","",$D19) | L19: =IF($E19="","",$E19) | M19: =IF($F19="","",$F19) | N19: =IF($G19="","",$G19)
J20: =IF(OR($A20="",$B20=""),"",$A20&"|"&$B20) | K20: =IF($D20="","",$D20) | L20: =IF($E20="","",$E20) | M20: =IF($F20="","",$F20) | N20: =IF($G20="","",$G20)
... J104: =IF(OR($A104="",$B104=""),"",$A104&"|"&$B104) | K104: =IF($D104="","",$D104) | L104: =IF($E104="","",$E104) | M104: =IF($F104="","",$F104) | N104: =IF($G104="","",$G104)

Sheet Übersicht
A1: Übersicht – Verpflegungsmehraufwand 2026
A3: Erstattungsfähige Reisen | B3: =COUNTIF('Reisekosten'!$U$5:$U$104,"Erstattungsfähig")
A4: Erfasste Reisen | B4: =COUNTA('Reisekosten'!$A$5:$A$104)
A5: Gesamter Verpflegungsmehraufwand | B5: =SUM('Reisekosten'!$T$5:$T$104)
A6: Durchschnittlicher Erstattungsbetrag | B6: =IFERROR(AVERAGE('Reisekosten'!$T$5:$T$104),0)
A7: Anteil Reisen mit Frühstück | B7: =IFERROR(COUNTIF('Reisekosten'!$M$5:$M$104,"Ja")/COUNTA('Reisekosten'!$A$5:$A$104),0)
A9: Monatliche Auswertung 2026 | F9: Auswertung nach Mitarbeitenden | J9: Anteil der Reisearten
A10: Monat | B10: Monatsende | C10: Anzahl Reisen | D10: Gesamtkosten | F10: Mitarbeitende Person | G10: Anzahl Reisen | H10: Erstattungsbetrag | J10: Abwesenheitsart | K10: Anzahl Reisen
A11: 46023 | B11: 46053 | C11: =COUNTIFS('Reisekosten'!$D$5:$D$104,">="&$A11,'Reisekosten'!$D$5:$D$104,"<="&$B11) | D11: =SUMIFS('Reisekosten'!$T$5:$T$104,'Reisekosten'!$D$5:$D$104,">="&$A11,'Reisekosten'!$D$5:$D$104,"<="&$B11) | F11: Anna Müller | G11: =COUNTIF('Reisekosten'!$B$5:$B$104,$F11) | H11: =SUMIF('Reisekosten'!$B$5:$B$104,$F11,'Reisekosten'!$T$5:$T$104) | J11: Ganztägig | K11: =COUNTIF('Reisekosten'!$H$5:$H$104,$J11)
A12: 46054 | B12: 46081 | C12: =COUNTIFS('Reisekosten'!$D$5:$D$104,">="&$A12,'Reisekosten'!$D$5:$D$104,"<="&$B12) | D12: =SUMIFS('Reisekosten'!$T$5:$T$104,'Reisekosten'!$D$5:$D$104,">="&$A12,'Reisekosten'!$D$5:$D$104,"<="&$B12) | F12: Lukas Schneider | G12: =COUNTIF('Reisekosten'!$B$5:$B$104,$F12) | H12: =SUMIF('Reisekosten'!$B$5:$B$104,$F12,'Reisekosten'!$T$5:$T$104) | J12: Anreisetag | K12: =COUNTIF('Reisekosten'!$H$5:$H$104,$J12)
A13: 46082 | B13: 46112 | C13: =COUNTIFS('Reisekosten'!$D$5:$D$104,">="&$A13,'Reisekosten'!$D$5:$D$104,"<="&$B13) | D13: =SUMIFS('Reisekosten'!$T$5:$T$104,'Reisekosten'!$D$5:$D$104,">="&$A13,'Reisekosten'!$D$5:$D$104,"<="&$B13) | F13: Julia Weber | G13: =COUNTIF('Reisekosten'!$B$5:$B$104,$F13) | H13: =SUMIF('Reisekosten'!$B$5:$B$104,$F13,'Reisekosten'!$T$5:$T$104) | J13: Abreisetag | K13: =COUNTIF('Reisekosten'!$H$5:$H$104,$J13)
A14: 46113 | B14: 46142 | C14: =COUNTIFS('Reisekosten'!$D$5:$D$104,">="&$A14,'Reisekosten'!$D$5:$D$104,"<="&$B14) | D14: =SUMIFS('Reisekosten'!$T$5:$T$104,'Reisekosten'!$D$5:$D$104,">="&$A14,'Reisekosten'!$D$5:$D$104,"<="&$B14) | F14: Maximilian Fischer | G14: =COUNTIF('Reisekosten'!$B$5:$B$104,$F14) | H14: =SUMIF('Reisekosten'!$B$5:$B$104,$F14,'Reisekosten'!$T$5:$T$104) | J14: Unter 8 Stunden | K14: =COUNTIF('Reisekosten'!$H$5:$H$104,$J14)
A15: 46143 | B15: 46173 | C15: =COUNTIFS('Reisekosten'!$D$5:$D$104,">="&$A15,'Reisekosten'!$D$5:$D$104,"<="&$B15) | D15: =SUMIFS('Reisekosten'!$T$5:$T$104,'Reisekosten'!$D$5:$D$104,">="&$A15,'Reisekosten'!$D$5:$D$104,"<="&$B15) | F15: Sophie Wagner | G15: =COUNTIF('Reisekosten'!$B$5:$B$104,$F15) | H15: =SUMIF('Reisekosten'!$B$5:$B$104,$F15,'Reisekosten'!$T$5:$T$104)
A16: 46174 | B16: 46203 | C16: =COUNTIFS('Reisekosten'!$D$5:$D$104,">="&$A16,'Reisekosten'!$D$5:$D$104,"<="&$B16) | D16: =SUMIFS('Reisekosten'!$T$5:$T$104,'Reisekosten'!$D$5:$D$104,">="&$A16,'Reisekosten'!$D$5:$D$104,"<="&$B16) | F16: Felix Becker | G16: =COUNTIF('Reisekosten'!$B$5:$B$104,$F16) | H16: =SUMIF('Reisekosten'!$B$5:$B$104,$F16,'Reisekosten'!$T$5:$T$104)
A17: 46204 | B17: 46234 | C17: =COUNTIFS('Reisekosten'!$D$5:$D$104,">="&$A17,'Reisekosten'!$D$5:$D$104,"<="&$B17) | D17: =SUMIFS('Reisekosten'!$T$5:$T$104,'Reisekosten'!$D$5:$D$104,">="&$A17,'Reisekosten'!$D$5:$D$104,"<="&$B17) | F17: Laura Hoffmann | G17: =COUNTIF('Reisekosten'!$B$5:$B$104,$F17) | H17: =SUMIF('Reisekosten'!$B$5:$B$104,$F17,'Reisekosten'!$T$5:$T$104)
A18: 46235 | B18: 46265 | C18: =COUNTIFS('Reisekosten'!$D$5:$D$104,">="&$A18,'Reisekosten'!$D$5:$D$104,"<="&$B18) | D18: =SUMIFS('Reisekosten'!$T$5:$T$104,'Reisekosten'!$D$5:$D$104,">="&$A18,'Reisekosten'!$D$5:$D$104,"<="&$B18) | F18: Jonas Richter | G18: =COUNTIF('Reisekosten'!$B$5:$B$104,$F18) | H18: =SUMIF('Reisekosten'!$B$5:$B$104,$F18,'Reisekosten'!$T$5:$T$104)
A19: 46266 | B19: 46295 | C19: =COUNTIFS('Reisekosten'!$D$5:$D$104,">="&$A19,'Reisekosten'!$D$5:$D$104,"<="&$B19) | D19: =SUMIFS('Reisekosten'!$T$5:$T$104,'Reisekosten'!$D$5:$D$104,">="&$A19,'Reisekosten'!$D$5:$D$104,"<="&$B19) | F19: Marie Klein | G19: =COUNTIF('Reisekosten'!$B$5:$B$104,$F19) | H19: =SUMIF('Reisekosten'!$B$5:$B$104,$F19,'Reisekosten'!$T$5:$T$104)
A20: 46296 | B20: 46326 | C20: =COUNTIFS('Reisekosten'!$D$5:$D$104,">="&$A20,'Reisekosten'!$D$5:$D$104,"<="&$B20) | D20: =SUMIFS('Reisekosten'!$T$5:$T$104,'Reisekosten'!$D$5:$D$104,">="&$A20,'Reisekosten'!$D$5:$D$104,"<="&$B20) | F20: Paul Neumann | G20: =COUNTIF('Reisekosten'!$B$5:$B$104,$F20) | H20: =SUMIF('Reisekosten'!$B$5:$B$104,$F20,'Reisekosten'!$T$5:$T$104)
A21: 46327 | B21: 46356 | C21: =COUNTIFS('Reisekosten'!$D$5:$D$104,">="&$A21,'Reisekosten'!$D$5:$D$104,"<="&$B21) | D21: =SUMIFS('Reisekosten'!$T$5:$T$104,'Reisekosten'!$D$5:$D$104,">="&$A21,'Reisekosten'!$D$5:$D$104,"<="&$B21)
A22: 46357 | B22: 46387 | C22: =COUNTIFS('Reisekosten'!$D$5:$D$104,">="&$A22,'Reisekosten'!$D$5:$D$104,"<="&$B22) | D22: =SUMIFS('Reisekosten'!$T$5:$T$104,'Reisekosten'!$D$5:$D$104,">="&$A22,'Reisekosten'!$D$5:$D$104,"<="&$B22)

Sheet Hinweise
A1: Hinweise zur Arbeitsmappe
A3: Bereich | B3: Verwendung | C3: Wichtiger Hinweis
A4: Reisekosten | B4: Erfassen Sie je Dienstreise Beleg-Nr., Person, Reisedaten, Uhrzeiten, Abwesenheitsart und gestellte Mahlzeiten. | C4: Die gelb hinterlegten Eingabefelder sind editierbar. Die Spalten Abwesenheit, Tagessatz, Abzüge, Erstattungsbetrag und Status werden automatisch berechnet.
A5: Pauschalen | B5: Die Tabelle enthält die deutschen Standardwerte für 2026 gemäß der vorliegenden Vorgabe. | C5: Ergänzen oder aktualisieren Sie Auslandspauschalen und Abzugssätze ausschließlich anhand Ihrer aktuellen fachlichen Grundlage.
A6: Übersicht | B6: Das Dashboard wertet alle vorbereiteten Zeilen 5 bis 104 der Reisekostenerfassung aus. | C6: Diagramme zeigen monatliche Beträge, Beträge je Mitarbeitenden sowie die Verteilung der Reisearten.
A7: Abwesenheitsart | B7: Ganztägig, Anreisetag und Abreisetag werden über die Pauschalentabelle bewertet. | C7: Für Abwesenheiten unter 8 Stunden ist im hinterlegten deutschen Standardwert keine Erstattung vorgesehen.
A8: Mahlzeiten | B8: Bei gestelltem Frühstück, Mittagessen oder Abendessen wird der hinterlegte prozentuale Abzug vom Tagessatz berechnet. | C8: Prüfen Sie die Angaben zu gestellten Mahlzeiten vor der Weitergabe an Buchhaltung oder Steuerberatung.
A9: Datenpflege | B9: Für jede tabellarische Eingabe stehen mindestens 100 vorbereitete Zeilen zur Verfügung. | C9: Leere vorbereitete Zeilen bleiben in den Berechnungsspalten optisch leer und können direkt verwendet werden.
A12: Hinweis zur fachlichen Prüfung | B12: Diese Arbeitsmappe unterstützt die Erfassung und Berechnung. Sie ersetzt keine individuelle steuerliche oder rechtliche Prüfung.
